BEGIN:VCALENDAR
VERSION:2.0
PRODID:-//Suffolk Intergroup Assoc - ECPv6.15.17.1//NONSGML v1.0//EN
CALSCALE:GREGORIAN
METHOD:PUBLISH
X-WR-CALNAME:Suffolk Intergroup Assoc
X-ORIGINAL-URL:https://staging.suffolkny-aa.org
X-WR-CALDESC:Events for Suffolk Intergroup Assoc
REFRESH-INTERVAL;VALUE=DURATION:PT1H
X-Robots-Tag:noindex
X-PUBLISHED-TTL:PT1H
BEGIN:VTIMEZONE
TZID:America/New_York
BEGIN:DAYLIGHT
TZOFFSETFROM:-0500
TZOFFSETTO:-0400
TZNAME:EDT
DTSTART:20220313T070000
END:DAYLIGHT
BEGIN:STANDARD
TZOFFSETFROM:-0400
TZOFFSETTO:-0500
TZNAME:EST
DTSTART:20221106T060000
END:STANDARD
BEGIN:DAYLIGHT
TZOFFSETFROM:-0500
TZOFFSETTO:-0400
TZNAME:EDT
DTSTART:20230312T070000
END:DAYLIGHT
BEGIN:STANDARD
TZOFFSETFROM:-0400
TZOFFSETTO:-0500
TZNAME:EST
DTSTART:20231105T060000
END:STANDARD
BEGIN:DAYLIGHT
TZOFFSETFROM:-0500
TZOFFSETTO:-0400
TZNAME:EDT
DTSTART:20240310T070000
END:DAYLIGHT
BEGIN:STANDARD
TZOFFSETFROM:-0400
TZOFFSETTO:-0500
TZNAME:EST
DTSTART:20241103T060000
END:STANDARD
BEGIN:DAYLIGHT
TZOFFSETFROM:-0500
TZOFFSETTO:-0400
TZNAME:EDT
DTSTART:20250309T070000
END:DAYLIGHT
BEGIN:STANDARD
TZOFFSETFROM:-0400
TZOFFSETTO:-0500
TZNAME:EST
DTSTART:20251102T060000
END:STANDARD
END:VTIMEZONE
BEGIN:VEVENT
DTSTART;TZID=America/New_York:20231219T190000
DTEND;TZID=America/New_York:20231219T200000
DTSTAMP:20260419T170644
CREATED:20231125T001046Z
LAST-MODIFIED:20241228T173240Z
UID:3613692-1703012400-1703016000@staging.suffolkny-aa.org
SUMMARY:SIA Officers & Chairs Meeting
DESCRIPTION:
URL:https://staging.suffolkny-aa.org/event/sia-officers-chairs-meeting/
LOCATION:SIA Office\, 33 Comac Loop\, Ste. 1A-1\, Ronkonkoma\, NY\, 11779\, United States
END:VEVENT
BEGIN:VEVENT
DTSTART;TZID=America/New_York:20240509T180000
DTEND;TZID=America/New_York:20240509T190000
DTSTAMP:20260419T170644
CREATED:20240423T025348Z
LAST-MODIFIED:20240427T171623Z
UID:3790158-1715277600-1715281200@staging.suffolkny-aa.org
SUMMARY:SIA Web Committee Meeting (Virtual)
DESCRIPTION:Please join the Web Committee and help guide improvements to this website and SIA’s digital outreach to groups\, members and newcomers!\n		\n						\n				\n							\n\n						\n				\n								\n			\n			\n						\n\n									\n						\n							VirtualMeeting Space						\n					\n				\n									\n						\n    ZOOM Mtg ID: 941 2170 5886PWD: service\n\n    Dial In: (929) 205-6099\n        PIN: 941 2170 5886#\n\n\n\n        (click any colored text to join automatically!)
URL:https://staging.suffolkny-aa.org/event/sia-web-committee-2/
LOCATION:SIA Virtual Space
ATTACH;FMTTYPE=image/jpeg:https://staging.suffolkny-aa.org/wp-content/uploads/2023/02/webcomm.jpg
END:VEVENT
BEGIN:VEVENT
DTSTART;TZID=America/New_York:20231212T190000
DTEND;TZID=America/New_York:20231212T200000
DTSTAMP:20260419T170644
CREATED:20231124T222916Z
LAST-MODIFIED:20241025T132133Z
UID:3612533-1702407600-1702411200@staging.suffolkny-aa.org
SUMMARY:SIA Archives Committee Meeting (Virtual)
DESCRIPTION:The Archives Committee is always looking for volunteers to help us save our history. \nWe are also in need of volunteers to help maintain the Archives Website. \n		\n						\n				\n							\n\n						\n				\n								\n			\n			\n						\n\n									\n						\n							VirtualMeeting Space						\n					\n				\n									\n						\n    ZOOM Mtg ID: 941 2170 5886PWD: service\n\n    Dial In: (929) 205-6099\n        PIN: 941 2170 5886#\n\n\n\n        (click any colored text to join automatically!)
URL:https://staging.suffolkny-aa.org/event/sia-archives-committee/
LOCATION:SIA Virtual Space
ATTACH;FMTTYPE=image/jpeg:https://staging.suffolkny-aa.org/wp-content/uploads/2023/11/Archives.jpg
END:VEVENT
BEGIN:VEVENT
DTSTART;TZID=America/New_York:20240326T200000
DTEND;TZID=America/New_York:20240326T210000
DTSTAMP:20260419T170644
CREATED:20240301T133116Z
LAST-MODIFIED:20241124T235756Z
UID:3713610-1711483200-1711486800@staging.suffolkny-aa.org
SUMMARY:SIA Business Meeting (virtual + True North Church)
DESCRIPTION:SIA Business Meeting\nHave your group’s voice heard!! Send your group’s SIA Rep! \nVisit the SIA Business Meeting page for details.
URL:https://staging.suffolkny-aa.org/event/sia-business-meeting-2/
LOCATION:True North Church\, 1101 Lakeland Ave.\, Bohemia\, NY\, 11716\, United States
ATTACH;FMTTYPE=image/jpeg:https://staging.suffolkny-aa.org/wp-content/uploads/2024/03/SIA_Business_Mtg.jpg
END:VEVENT
BEGIN:VEVENT
DTSTART;TZID=America/New_York:20240326T190000
DTEND;TZID=America/New_York:20240326T200000
DTSTAMP:20260419T170644
CREATED:20240301T133325Z
LAST-MODIFIED:20240428T221658Z
UID:3713616-1711479600-1711483200@staging.suffolkny-aa.org
SUMMARY:SIA New Intergroup Rep Orientation (virtual + True North Church)
DESCRIPTION:New Intergroup Rep Orientation\n(7PM before the SIA Business Meeting)\nLearn what’s involved in being your home group’s SIA Rep!
URL:https://staging.suffolkny-aa.org/event/sia-new-rep-orientation-2/
LOCATION:True North Church\, 1101 Lakeland Ave.\, Bohemia\, NY\, 11716\, United States
ATTACH;FMTTYPE=image/jpeg:https://staging.suffolkny-aa.org/wp-content/uploads/2024/03/New-Intergrp-Rep.jpg
END:VEVENT
BEGIN:VEVENT
DTSTART;TZID=America/New_York:20231219T190000
DTEND;TZID=America/New_York:20231219T200000
DTSTAMP:20260419T170644
CREATED:20231125T001046Z
LAST-MODIFIED:20241228T173240Z
UID:3613692-1703012400-1703016000@staging.suffolkny-aa.org
SUMMARY:SIA Officers & Chairs Meeting
DESCRIPTION:
URL:https://staging.suffolkny-aa.org/event/sia-officers-chairs-meeting/
LOCATION:SIA Office\, 33 Comac Loop\, Ste. 1A-1\, Ronkonkoma\, NY\, 11779\, United States
END:VEVENT
BEGIN:VEVENT
DTSTART;TZID=America/New_York:20231219T190000
DTEND;TZID=America/New_York:20231219T200000
DTSTAMP:20260419T170644
CREATED:20231125T001046Z
LAST-MODIFIED:20241228T173240Z
UID:3613692-1703012400-1703016000@staging.suffolkny-aa.org
SUMMARY:SIA Officers & Chairs Meeting
DESCRIPTION:
URL:https://staging.suffolkny-aa.org/event/sia-officers-chairs-meeting/
LOCATION:SIA Office\, 33 Comac Loop\, Ste. 1A-1\, Ronkonkoma\, NY\, 11779\, United States
END:VEVENT
BEGIN:VEVENT
DTSTART;TZID=America/New_York:20240509T180000
DTEND;TZID=America/New_York:20240509T190000
DTSTAMP:20260419T170644
CREATED:20240423T025348Z
LAST-MODIFIED:20240427T171623Z
UID:3790158-1715277600-1715281200@staging.suffolkny-aa.org
SUMMARY:SIA Web Committee Meeting (Virtual)
DESCRIPTION:Please join the Web Committee and help guide improvements to this website and SIA’s digital outreach to groups\, members and newcomers!\n		\n						\n				\n							\n\n						\n				\n								\n			\n			\n						\n\n									\n						\n							VirtualMeeting Space						\n					\n				\n									\n						\n    ZOOM Mtg ID: 941 2170 5886PWD: service\n\n    Dial In: (929) 205-6099\n        PIN: 941 2170 5886#\n\n\n\n        (click any colored text to join automatically!)
URL:https://staging.suffolkny-aa.org/event/sia-web-committee-2/
LOCATION:SIA Virtual Space
ATTACH;FMTTYPE=image/jpeg:https://staging.suffolkny-aa.org/wp-content/uploads/2023/02/webcomm.jpg
END:VEVENT
BEGIN:VEVENT
DTSTART;TZID=America/New_York:20231212T190000
DTEND;TZID=America/New_York:20231212T200000
DTSTAMP:20260419T170644
CREATED:20231124T222916Z
LAST-MODIFIED:20241025T132133Z
UID:3612533-1702407600-1702411200@staging.suffolkny-aa.org
SUMMARY:SIA Archives Committee Meeting (Virtual)
DESCRIPTION:The Archives Committee is always looking for volunteers to help us save our history. \nWe are also in need of volunteers to help maintain the Archives Website. \n		\n						\n				\n							\n\n						\n				\n								\n			\n			\n						\n\n									\n						\n							VirtualMeeting Space						\n					\n				\n									\n						\n    ZOOM Mtg ID: 941 2170 5886PWD: service\n\n    Dial In: (929) 205-6099\n        PIN: 941 2170 5886#\n\n\n\n        (click any colored text to join automatically!)
URL:https://staging.suffolkny-aa.org/event/sia-archives-committee/
LOCATION:SIA Virtual Space
ATTACH;FMTTYPE=image/jpeg:https://staging.suffolkny-aa.org/wp-content/uploads/2023/11/Archives.jpg
END:VEVENT
BEGIN:VEVENT
DTSTART;VALUE=DATE:20241004
DTEND;VALUE=DATE:20241007
DTSTAMP:20260419T170644
CREATED:20240728T125930Z
LAST-MODIFIED:20240728T130606Z
UID:3861199-1728000000-1728259199@staging.suffolkny-aa.org
SUMMARY:LICYPAA Resurrection Campout
DESCRIPTION:LICYPAA:\nResurrection Campout\nOctober 4th – 6th\nClick here to purchase tickets
URL:https://staging.suffolkny-aa.org/event/licypaa-resurrection-camp-out/
LOCATION:Wildwood State Park\, 790 Hulse Landing Rd\, Wading River\, NY\, 11792
END:VEVENT
BEGIN:VEVENT
DTSTART;TZID=America/New_York:20240326T200000
DTEND;TZID=America/New_York:20240326T210000
DTSTAMP:20260419T170644
CREATED:20240301T133116Z
LAST-MODIFIED:20241124T235756Z
UID:3713610-1711483200-1711486800@staging.suffolkny-aa.org
SUMMARY:SIA Business Meeting (virtual + True North Church)
DESCRIPTION:SIA Business Meeting\nHave your group’s voice heard!! Send your group’s SIA Rep! \nVisit the SIA Business Meeting page for details.
URL:https://staging.suffolkny-aa.org/event/sia-business-meeting-2/
LOCATION:True North Church\, 1101 Lakeland Ave.\, Bohemia\, NY\, 11716\, United States
ATTACH;FMTTYPE=image/jpeg:https://staging.suffolkny-aa.org/wp-content/uploads/2024/03/SIA_Business_Mtg.jpg
END:VEVENT
BEGIN:VEVENT
DTSTART;TZID=America/New_York:20240326T190000
DTEND;TZID=America/New_York:20240326T200000
DTSTAMP:20260419T170644
CREATED:20240301T133325Z
LAST-MODIFIED:20240428T221658Z
UID:3713616-1711479600-1711483200@staging.suffolkny-aa.org
SUMMARY:SIA New Intergroup Rep Orientation (virtual + True North Church)
DESCRIPTION:New Intergroup Rep Orientation\n(7PM before the SIA Business Meeting)\nLearn what’s involved in being your home group’s SIA Rep!
URL:https://staging.suffolkny-aa.org/event/sia-new-rep-orientation-2/
LOCATION:True North Church\, 1101 Lakeland Ave.\, Bohemia\, NY\, 11716\, United States
ATTACH;FMTTYPE=image/jpeg:https://staging.suffolkny-aa.org/wp-content/uploads/2024/03/New-Intergrp-Rep.jpg
END:VEVENT
BEGIN:VEVENT
DTSTART;TZID=America/New_York:20231219T190000
DTEND;TZID=America/New_York:20231219T200000
DTSTAMP:20260419T170644
CREATED:20231125T001046Z
LAST-MODIFIED:20241228T173240Z
UID:3613692-1703012400-1703016000@staging.suffolkny-aa.org
SUMMARY:SIA Officers & Chairs Meeting
DESCRIPTION:
URL:https://staging.suffolkny-aa.org/event/sia-officers-chairs-meeting/
LOCATION:SIA Office\, 33 Comac Loop\, Ste. 1A-1\, Ronkonkoma\, NY\, 11779\, United States
END:VEVENT
BEGIN:VEVENT
DTSTART;TZID=America/New_York:20240913T200000
DTEND;TZID=America/New_York:20240913T230000
DTSTAMP:20260419T170644
CREATED:20240703T011221Z
LAST-MODIFIED:20240713T180442Z
UID:3856473-1726257600-1726268400@staging.suffolkny-aa.org
SUMMARY:LICYPAA Fellowship Boat Cruise
DESCRIPTION:ESCYPAA & LICYPAA:\nFellowSHIP Boat Cruise\nboarding starts @8pm\nDJ AnonyMass | DJ SurrendAA \nClick here to purchase tickets
URL:https://staging.suffolkny-aa.org/event/licypaa-fellowship-boat-cruises/
LOCATION:83 North Rivers Piers\, 83 North River Piers\, New York\, NY\, 10036\, United States
END:VEVENT
BEGIN:VEVENT
DTSTART;TZID=America/New_York:20240509T180000
DTEND;TZID=America/New_York:20240509T190000
DTSTAMP:20260419T170644
CREATED:20240423T025348Z
LAST-MODIFIED:20240427T171623Z
UID:3790158-1715277600-1715281200@staging.suffolkny-aa.org
SUMMARY:SIA Web Committee Meeting (Virtual)
DESCRIPTION:Please join the Web Committee and help guide improvements to this website and SIA’s digital outreach to groups\, members and newcomers!\n		\n						\n				\n							\n\n						\n				\n								\n			\n			\n						\n\n									\n						\n							VirtualMeeting Space						\n					\n				\n									\n						\n    ZOOM Mtg ID: 941 2170 5886PWD: service\n\n    Dial In: (929) 205-6099\n        PIN: 941 2170 5886#\n\n\n\n        (click any colored text to join automatically!)
URL:https://staging.suffolkny-aa.org/event/sia-web-committee-2/
LOCATION:SIA Virtual Space
ATTACH;FMTTYPE=image/jpeg:https://staging.suffolkny-aa.org/wp-content/uploads/2023/02/webcomm.jpg
END:VEVENT
BEGIN:VEVENT
DTSTART;TZID=America/New_York:20231212T190000
DTEND;TZID=America/New_York:20231212T200000
DTSTAMP:20260419T170644
CREATED:20231124T222916Z
LAST-MODIFIED:20241025T132133Z
UID:3612533-1702407600-1702411200@staging.suffolkny-aa.org
SUMMARY:SIA Archives Committee Meeting (Virtual)
DESCRIPTION:The Archives Committee is always looking for volunteers to help us save our history. \nWe are also in need of volunteers to help maintain the Archives Website. \n		\n						\n				\n							\n\n						\n				\n								\n			\n			\n						\n\n									\n						\n							VirtualMeeting Space						\n					\n				\n									\n						\n    ZOOM Mtg ID: 941 2170 5886PWD: service\n\n    Dial In: (929) 205-6099\n        PIN: 941 2170 5886#\n\n\n\n        (click any colored text to join automatically!)
URL:https://staging.suffolkny-aa.org/event/sia-archives-committee/
LOCATION:SIA Virtual Space
ATTACH;FMTTYPE=image/jpeg:https://staging.suffolkny-aa.org/wp-content/uploads/2023/11/Archives.jpg
END:VEVENT
BEGIN:VEVENT
DTSTART;TZID=America/New_York:20240326T200000
DTEND;TZID=America/New_York:20240326T210000
DTSTAMP:20260419T170644
CREATED:20240301T133116Z
LAST-MODIFIED:20241124T235756Z
UID:3713610-1711483200-1711486800@staging.suffolkny-aa.org
SUMMARY:SIA Business Meeting (virtual + True North Church)
DESCRIPTION:SIA Business Meeting\nHave your group’s voice heard!! Send your group’s SIA Rep! \nVisit the SIA Business Meeting page for details.
URL:https://staging.suffolkny-aa.org/event/sia-business-meeting-2/
LOCATION:True North Church\, 1101 Lakeland Ave.\, Bohemia\, NY\, 11716\, United States
ATTACH;FMTTYPE=image/jpeg:https://staging.suffolkny-aa.org/wp-content/uploads/2024/03/SIA_Business_Mtg.jpg
END:VEVENT
BEGIN:VEVENT
DTSTART;TZID=America/New_York:20240326T190000
DTEND;TZID=America/New_York:20240326T200000
DTSTAMP:20260419T170644
CREATED:20240301T133325Z
LAST-MODIFIED:20240428T221658Z
UID:3713616-1711479600-1711483200@staging.suffolkny-aa.org
SUMMARY:SIA New Intergroup Rep Orientation (virtual + True North Church)
DESCRIPTION:New Intergroup Rep Orientation\n(7PM before the SIA Business Meeting)\nLearn what’s involved in being your home group’s SIA Rep!
URL:https://staging.suffolkny-aa.org/event/sia-new-rep-orientation-2/
LOCATION:True North Church\, 1101 Lakeland Ave.\, Bohemia\, NY\, 11716\, United States
ATTACH;FMTTYPE=image/jpeg:https://staging.suffolkny-aa.org/wp-content/uploads/2024/03/New-Intergrp-Rep.jpg
END:VEVENT
BEGIN:VEVENT
DTSTART;TZID=America/New_York:20240824T130000
DTEND;TZID=America/New_York:20240824T170000
DTSTAMP:20260419T170644
CREATED:20240511T151536Z
LAST-MODIFIED:20240511T151536Z
UID:3799591-1724504400-1724518800@staging.suffolkny-aa.org
SUMMARY:AA Summer BBQ - Southaven County Park (Yaphank)
DESCRIPTION:
URL:https://staging.suffolkny-aa.org/event/bbq/
LOCATION:Southhaven County Park\, 761 Victory Ave.\, Yaphank\, NY\, 11980
END:VEVENT
BEGIN:VEVENT
DTSTART;TZID=America/New_York:20231219T190000
DTEND;TZID=America/New_York:20231219T200000
DTSTAMP:20260419T170644
CREATED:20231125T001046Z
LAST-MODIFIED:20241228T173240Z
UID:3613692-1703012400-1703016000@staging.suffolkny-aa.org
SUMMARY:SIA Officers & Chairs Meeting
DESCRIPTION:
URL:https://staging.suffolkny-aa.org/event/sia-officers-chairs-meeting/
LOCATION:SIA Office\, 33 Comac Loop\, Ste. 1A-1\, Ronkonkoma\, NY\, 11779\, United States
END:VEVENT
BEGIN:VEVENT
DTSTART;TZID=America/New_York:20231212T190000
DTEND;TZID=America/New_York:20231212T200000
DTSTAMP:20260419T170644
CREATED:20231124T222916Z
LAST-MODIFIED:20241025T132133Z
UID:3612533-1702407600-1702411200@staging.suffolkny-aa.org
SUMMARY:SIA Archives Committee Meeting (Virtual)
DESCRIPTION:The Archives Committee is always looking for volunteers to help us save our history. \nWe are also in need of volunteers to help maintain the Archives Website. \n		\n						\n				\n							\n\n						\n				\n								\n			\n			\n						\n\n									\n						\n							VirtualMeeting Space						\n					\n				\n									\n						\n    ZOOM Mtg ID: 941 2170 5886PWD: service\n\n    Dial In: (929) 205-6099\n        PIN: 941 2170 5886#\n\n\n\n        (click any colored text to join automatically!)
URL:https://staging.suffolkny-aa.org/event/sia-archives-committee/
LOCATION:SIA Virtual Space
ATTACH;FMTTYPE=image/jpeg:https://staging.suffolkny-aa.org/wp-content/uploads/2023/11/Archives.jpg
END:VEVENT
BEGIN:VEVENT
DTSTART;TZID=America/New_York:20240509T180000
DTEND;TZID=America/New_York:20240509T190000
DTSTAMP:20260419T170644
CREATED:20240423T025348Z
LAST-MODIFIED:20240427T171623Z
UID:3790158-1715277600-1715281200@staging.suffolkny-aa.org
SUMMARY:SIA Web Committee Meeting (Virtual)
DESCRIPTION:Please join the Web Committee and help guide improvements to this website and SIA’s digital outreach to groups\, members and newcomers!\n		\n						\n				\n							\n\n						\n				\n								\n			\n			\n						\n\n									\n						\n							VirtualMeeting Space						\n					\n				\n									\n						\n    ZOOM Mtg ID: 941 2170 5886PWD: service\n\n    Dial In: (929) 205-6099\n        PIN: 941 2170 5886#\n\n\n\n        (click any colored text to join automatically!)
URL:https://staging.suffolkny-aa.org/event/sia-web-committee-2/
LOCATION:SIA Virtual Space
ATTACH;FMTTYPE=image/jpeg:https://staging.suffolkny-aa.org/wp-content/uploads/2023/02/webcomm.jpg
END:VEVENT
BEGIN:VEVENT
DTSTART;TZID=America/New_York:20240326T200000
DTEND;TZID=America/New_York:20240326T210000
DTSTAMP:20260419T170644
CREATED:20240301T133116Z
LAST-MODIFIED:20241124T235756Z
UID:3713610-1711483200-1711486800@staging.suffolkny-aa.org
SUMMARY:SIA Business Meeting (virtual + True North Church)
DESCRIPTION:SIA Business Meeting\nHave your group’s voice heard!! Send your group’s SIA Rep! \nVisit the SIA Business Meeting page for details.
URL:https://staging.suffolkny-aa.org/event/sia-business-meeting-2/
LOCATION:True North Church\, 1101 Lakeland Ave.\, Bohemia\, NY\, 11716\, United States
ATTACH;FMTTYPE=image/jpeg:https://staging.suffolkny-aa.org/wp-content/uploads/2024/03/SIA_Business_Mtg.jpg
END:VEVENT
BEGIN:VEVENT
DTSTART;TZID=America/New_York:20240326T190000
DTEND;TZID=America/New_York:20240326T200000
DTSTAMP:20260419T170644
CREATED:20240301T133325Z
LAST-MODIFIED:20240428T221658Z
UID:3713616-1711479600-1711483200@staging.suffolkny-aa.org
SUMMARY:SIA New Intergroup Rep Orientation (virtual + True North Church)
DESCRIPTION:New Intergroup Rep Orientation\n(7PM before the SIA Business Meeting)\nLearn what’s involved in being your home group’s SIA Rep!
URL:https://staging.suffolkny-aa.org/event/sia-new-rep-orientation-2/
LOCATION:True North Church\, 1101 Lakeland Ave.\, Bohemia\, NY\, 11716\, United States
ATTACH;FMTTYPE=image/jpeg:https://staging.suffolkny-aa.org/wp-content/uploads/2024/03/New-Intergrp-Rep.jpg
END:VEVENT
BEGIN:VEVENT
DTSTART;TZID=America/New_York:20231219T190000
DTEND;TZID=America/New_York:20231219T200000
DTSTAMP:20260419T170644
CREATED:20231125T001046Z
LAST-MODIFIED:20241228T173240Z
UID:3613692-1703012400-1703016000@staging.suffolkny-aa.org
SUMMARY:SIA Officers & Chairs Meeting
DESCRIPTION:
URL:https://staging.suffolkny-aa.org/event/sia-officers-chairs-meeting/
LOCATION:SIA Office\, 33 Comac Loop\, Ste. 1A-1\, Ronkonkoma\, NY\, 11779\, United States
END:VEVENT
BEGIN:VEVENT
DTSTART;TZID=America/New_York:20231219T190000
DTEND;TZID=America/New_York:20231219T200000
DTSTAMP:20260419T170644
CREATED:20231125T001046Z
LAST-MODIFIED:20241228T173240Z
UID:3613692-1703012400-1703016000@staging.suffolkny-aa.org
SUMMARY:SIA Officers & Chairs Meeting
DESCRIPTION:
URL:https://staging.suffolkny-aa.org/event/sia-officers-chairs-meeting/
LOCATION:SIA Office\, 33 Comac Loop\, Ste. 1A-1\, Ronkonkoma\, NY\, 11779\, United States
END:VEVENT
BEGIN:VEVENT
DTSTART;TZID=America/New_York:20240509T180000
DTEND;TZID=America/New_York:20240509T190000
DTSTAMP:20260419T170644
CREATED:20240423T025348Z
LAST-MODIFIED:20240427T171623Z
UID:3790158-1715277600-1715281200@staging.suffolkny-aa.org
SUMMARY:SIA Web Committee Meeting (Virtual)
DESCRIPTION:Please join the Web Committee and help guide improvements to this website and SIA’s digital outreach to groups\, members and newcomers!\n		\n						\n				\n							\n\n						\n				\n								\n			\n			\n						\n\n									\n						\n							VirtualMeeting Space						\n					\n				\n									\n						\n    ZOOM Mtg ID: 941 2170 5886PWD: service\n\n    Dial In: (929) 205-6099\n        PIN: 941 2170 5886#\n\n\n\n        (click any colored text to join automatically!)
URL:https://staging.suffolkny-aa.org/event/sia-web-committee-2/
LOCATION:SIA Virtual Space
ATTACH;FMTTYPE=image/jpeg:https://staging.suffolkny-aa.org/wp-content/uploads/2023/02/webcomm.jpg
END:VEVENT
BEGIN:VEVENT
DTSTART;TZID=America/New_York:20231212T190000
DTEND;TZID=America/New_York:20231212T200000
DTSTAMP:20260419T170644
CREATED:20231124T222916Z
LAST-MODIFIED:20241025T132133Z
UID:3612533-1702407600-1702411200@staging.suffolkny-aa.org
SUMMARY:SIA Archives Committee Meeting (Virtual)
DESCRIPTION:The Archives Committee is always looking for volunteers to help us save our history. \nWe are also in need of volunteers to help maintain the Archives Website. \n		\n						\n				\n							\n\n						\n				\n								\n			\n			\n						\n\n									\n						\n							VirtualMeeting Space						\n					\n				\n									\n						\n    ZOOM Mtg ID: 941 2170 5886PWD: service\n\n    Dial In: (929) 205-6099\n        PIN: 941 2170 5886#\n\n\n\n        (click any colored text to join automatically!)
URL:https://staging.suffolkny-aa.org/event/sia-archives-committee/
LOCATION:SIA Virtual Space
ATTACH;FMTTYPE=image/jpeg:https://staging.suffolkny-aa.org/wp-content/uploads/2023/11/Archives.jpg
END:VEVENT
BEGIN:VEVENT
DTSTART;TZID=America/New_York:20240326T200000
DTEND;TZID=America/New_York:20240326T210000
DTSTAMP:20260419T170644
CREATED:20240301T133116Z
LAST-MODIFIED:20241124T235756Z
UID:3713610-1711483200-1711486800@staging.suffolkny-aa.org
SUMMARY:SIA Business Meeting (virtual + True North Church)
DESCRIPTION:SIA Business Meeting\nHave your group’s voice heard!! Send your group’s SIA Rep! \nVisit the SIA Business Meeting page for details.
URL:https://staging.suffolkny-aa.org/event/sia-business-meeting-2/
LOCATION:True North Church\, 1101 Lakeland Ave.\, Bohemia\, NY\, 11716\, United States
ATTACH;FMTTYPE=image/jpeg:https://staging.suffolkny-aa.org/wp-content/uploads/2024/03/SIA_Business_Mtg.jpg
END:VEVENT
BEGIN:VEVENT
DTSTART;TZID=America/New_York:20240326T190000
DTEND;TZID=America/New_York:20240326T200000
DTSTAMP:20260419T170644
CREATED:20240301T133325Z
LAST-MODIFIED:20240428T221658Z
UID:3713616-1711479600-1711483200@staging.suffolkny-aa.org
SUMMARY:SIA New Intergroup Rep Orientation (virtual + True North Church)
DESCRIPTION:New Intergroup Rep Orientation\n(7PM before the SIA Business Meeting)\nLearn what’s involved in being your home group’s SIA Rep!
URL:https://staging.suffolkny-aa.org/event/sia-new-rep-orientation-2/
LOCATION:True North Church\, 1101 Lakeland Ave.\, Bohemia\, NY\, 11716\, United States
ATTACH;FMTTYPE=image/jpeg:https://staging.suffolkny-aa.org/wp-content/uploads/2024/03/New-Intergrp-Rep.jpg
END:VEVENT
END:VCALENDAR