BEGIN:VCALENDAR
VERSION:2.0
PRODID:-//Suffolk Intergroup Assoc - ECPv6.15.20//NONSGML v1.0//EN
CALSCALE:GREGORIAN
METHOD:PUBLISH
X-WR-CALNAME:Suffolk Intergroup Assoc
X-ORIGINAL-URL:https://staging.suffolkny-aa.org
X-WR-CALDESC:Events for Suffolk Intergroup Assoc
REFRESH-INTERVAL;VALUE=DURATION:PT1H
X-Robots-Tag:noindex
X-PUBLISHED-TTL:PT1H
BEGIN:VTIMEZONE
TZID:America/New_York
BEGIN:DAYLIGHT
TZOFFSETFROM:-0500
TZOFFSETTO:-0400
TZNAME:EDT
DTSTART:20250309T070000
END:DAYLIGHT
BEGIN:STANDARD
TZOFFSETFROM:-0400
TZOFFSETTO:-0500
TZNAME:EST
DTSTART:20251102T060000
END:STANDARD
BEGIN:DAYLIGHT
TZOFFSETFROM:-0500
TZOFFSETTO:-0400
TZNAME:EDT
DTSTART:20260308T070000
END:DAYLIGHT
BEGIN:STANDARD
TZOFFSETFROM:-0400
TZOFFSETTO:-0500
TZNAME:EST
DTSTART:20261101T060000
END:STANDARD
BEGIN:DAYLIGHT
TZOFFSETFROM:-0500
TZOFFSETTO:-0400
TZNAME:EDT
DTSTART:20270314T070000
END:DAYLIGHT
BEGIN:STANDARD
TZOFFSETFROM:-0400
TZOFFSETTO:-0500
TZNAME:EST
DTSTART:20271107T060000
END:STANDARD
END:VTIMEZONE
BEGIN:VEVENT
DTSTART;TZID=America/New_York:20260331T200000
DTEND;TZID=America/New_York:20260331T210000
DTSTAMP:20260426T002633
CREATED:20241207T031844Z
LAST-MODIFIED:20250203T010220Z
UID:10000029-1774987200-1774990800@staging.suffolkny-aa.org
SUMMARY:SIA Business Meeting (virtual + True North Church)
DESCRIPTION:SIA Business Meeting\nHave your group’s voice heard!! Send your group’s SIA Rep! \nVisit the SIA Business Meeting page for details.
URL:https://staging.suffolkny-aa.org/event/sia-business-meeting-2-2/2026-03-31/
LOCATION:True North Church\, 1101 Lakeland Ave.\, Bohemia\, NY\, 11716\, United States
ATTACH;FMTTYPE=image/jpeg:https://staging.suffolkny-aa.org/wp-content/uploads/2024/03/SIA_Business_Mtg.jpg
END:VEVENT
BEGIN:VEVENT
DTSTART;TZID=America/New_York:20260331T190000
DTEND;TZID=America/New_York:20260331T200000
DTSTAMP:20260426T002633
CREATED:20241207T030944Z
LAST-MODIFIED:20241221T211240Z
UID:10000218-1774983600-1774987200@staging.suffolkny-aa.org
SUMMARY:SIA New Intergroup Rep Orientation (virtual + True North Church)
DESCRIPTION:New Intergroup Rep Orientation\n(7PM before the SIA Business Meeting)\nLearn what’s involved in being your home group’s SIA Rep!
URL:https://staging.suffolkny-aa.org/event/sia-new-rep-orientation-2-2/2026-03-31/
LOCATION:True North Church\, 1101 Lakeland Ave.\, Bohemia\, NY\, 11716\, United States
ATTACH;FMTTYPE=image/jpeg:https://staging.suffolkny-aa.org/wp-content/uploads/2024/03/SIA_Business_Mtg.jpg
END:VEVENT
BEGIN:VEVENT
DTSTART;TZID=America/New_York:20260331T182000
DTEND;TZID=America/New_York:20260331T194000
DTSTAMP:20260426T002633
CREATED:20250613T213501Z
LAST-MODIFIED:20260210T011512Z
UID:10001891-1774981200-1774986000@staging.suffolkny-aa.org
SUMMARY:SIA Treatment Facilities Committee Meeting (virtual + True North Church)
DESCRIPTION:Join us to learn how you can help us carry the message to the still-suffering alcoholic in Detox\, Rehabs and other facilities in Suffolk. \nhybrid meeting (virtual + SIA Business Meeting location)
URL:https://staging.suffolkny-aa.org/event/sia-treatment-facilities-committee-meeting-virtual-true-north-church/2026-03-31/
LOCATION:True North Church\, 1101 Lakeland Ave.\, Bohemia\, NY\, 11716\, United States
ATTACH;FMTTYPE=image/jpeg:https://staging.suffolkny-aa.org/wp-content/uploads/2021/03/treatment.jpg
END:VEVENT
BEGIN:VEVENT
DTSTART;TZID=America/New_York:20260327T193000
DTEND;TZID=America/New_York:20260327T210000
DTSTAMP:20260426T002633
CREATED:20251204T023312Z
LAST-MODIFIED:20251204T134852Z
UID:10002270-1774639800-1774645200@staging.suffolkny-aa.org
SUMMARY:Suffolk General Service Meeting (hybrid)
DESCRIPTION:7:00 PM – Food & GSR Orientation / 7:30 Meeting \nIf this is your first Suffolk General Service meeting on the Zoom platform\, we have put together a Participants Guide to assist you. \nIf this is NOT your first meeting\, you may wish to review the guide for helpful suggestions on protecting your anonymity\, meeting etiquette\, and key features while in the meeting. \nYou can also review the Suffolk County Bylaws & Articles of Association. \nVisit the Suffolk General Service Meeting page for more information. \nContact web@aasuffolkgs-ny.org if you have any questions or concerns.
URL:https://staging.suffolkny-aa.org/event/sgs-hybrid-2026/2026-03-27/
LOCATION:Emanuel Lutheran Chrch\, 179 E. Main St.\, Patchogue\, 11772\, United States
ATTACH;FMTTYPE=image/jpeg:https://staging.suffolkny-aa.org/wp-content/uploads/2025/05/SGS_Meeting_sm.jpg
END:VEVENT
BEGIN:VEVENT
DTSTART;TZID=America/New_York:20260319T190000
DTEND;TZID=America/New_York:20260319T200000
DTSTAMP:20260426T002633
CREATED:20251031T013307Z
LAST-MODIFIED:20251031T013857Z
UID:10002207-1773946800-1773950400@staging.suffolkny-aa.org
SUMMARY:Treatment Facilities' Bridging The Gap Outreach Subcommittee Meeting (virtual)
DESCRIPTION:
URL:https://staging.suffolkny-aa.org/event/tfc-btgo-subc-virt-2nd/2026-03-19/
LOCATION:SIA Virtual Space
ATTACH;FMTTYPE=image/png:https://staging.suffolkny-aa.org/wp-content/uploads/2025/10/btg.png
END:VEVENT
BEGIN:VEVENT
DTSTART;TZID=America/New_York:20260317T190000
DTEND;TZID=America/New_York:20260317T200000
DTSTAMP:20260426T002633
CREATED:20260128T022401Z
LAST-MODIFIED:20260209T175414Z
UID:10002424-1773774000-1773777600@staging.suffolkny-aa.org
SUMMARY:Finance Committee Meeting
DESCRIPTION:
URL:https://staging.suffolkny-aa.org/event/finance-comm/
LOCATION:SIA Office\, 33 Comac Loop\, Ste. 1A-1\, Ronkonkoma\, NY\, 11779\, United States
END:VEVENT
BEGIN:VEVENT
DTSTART;TZID=America/New_York:20260314T070000
DTEND;TZID=America/New_York:20260314T080000
DTSTAMP:20260426T002633
CREATED:20251224T002529Z
LAST-MODIFIED:20260420T223854Z
UID:10002436-1773471600-1773475200@staging.suffolkny-aa.org
SUMMARY:SIA Speaker Exchange
DESCRIPTION:live speaker exchange for upcoming in-person speaking commitments \nheld the second Saturday of March\, June\, September\, and December \nbegins promptly at 7:00 AM \nfor more information visit the SIA Commitees’ Speaker Exchange page
URL:https://staging.suffolkny-aa.org/event/sia-speaker-exchange/2026-03-14/
LOCATION:True North Church\, 1101 Lakeland Ave.\, Bohemia\, NY\, 11716\, United States
ATTACH;FMTTYPE=image/png:https://staging.suffolkny-aa.org/wp-content/uploads/2023/11/speaker-exchange-16x9-1.png
END:VEVENT
BEGIN:VEVENT
DTSTART;TZID=America/New_York:20260313T180000
DTEND;TZID=America/New_York:20260313T190000
DTSTAMP:20260426T002633
CREATED:20250214T034717Z
LAST-MODIFIED:20260401T011434Z
UID:10000696-1773424800-1773428400@staging.suffolkny-aa.org
SUMMARY:Treatment Facilities' Bridging The Gap Committee Meeting (virtual + SIA Office)
DESCRIPTION:Join us to learn how you can become a Temporary Contact to connect a new member being discharged from a facility to A.A. in their community. \nhybrid meeting (virtual + SIA Office)
URL:https://staging.suffolkny-aa.org/event/tfc-btg-hybrid-sia-office/2026-03-13/
LOCATION:SIA Office\, 33 Comac Loop\, Ste. 1A-1\, Ronkonkoma\, NY\, 11779\, United States
ATTACH;FMTTYPE=image/jpeg:https://staging.suffolkny-aa.org/wp-content/uploads/2023/11/BTG.jpg
END:VEVENT
BEGIN:VEVENT
DTSTART;TZID=America/New_York:20260310T190000
DTEND;TZID=America/New_York:20260310T203000
DTSTAMP:20260426T002633
CREATED:20260210T014247Z
LAST-MODIFIED:20260210T014247Z
UID:10002426-1773169200-1773174600@staging.suffolkny-aa.org
SUMMARY:SIA Bylaws Committee Meeting (hybrid)
DESCRIPTION:Please join us and lend your voice to this important service assignment\, which is to: \n\nReview the SIA Bylaws\nIdentify and propose needed changes\nPublish proposed amendments\nReport on the anticipated effects\nPresent amendments to the SIA body for approval by substantial unanimity\n\n\nMeeting Schedule\nFirst Tuesday of each month\nbeginning February 3rd at 7:00 p.m.\n(except in March\, will meet March 10th) \nLocation\nSIA Office \nQuestions?\nEmail alt-chairperson@suffolkny-aa.org
URL:https://staging.suffolkny-aa.org/event/sia-bylaws-comm-mtg-2/2026-03-10/
LOCATION:SIA Office\, 33 Comac Loop\, Ste. 1A-1\, Ronkonkoma\, NY\, 11779\, United States
ATTACH;FMTTYPE=image/png:https://staging.suffolkny-aa.org/wp-content/uploads/2025/12/Bylaws_Comm_sm.png
END:VEVENT
BEGIN:VEVENT
DTSTART;TZID=America/New_York:20260310T190000
DTEND;TZID=America/New_York:20260310T200000
DTSTAMP:20260426T002633
CREATED:20231124T222916Z
LAST-MODIFIED:20241025T132133Z
UID:10000092-1773169200-1773172800@staging.suffolkny-aa.org
SUMMARY:SIA Archives Committee Meeting (Virtual)
DESCRIPTION:The Archives Committee is always looking for volunteers to help us save our history. \nWe are also in need of volunteers to help maintain the Archives Website. \n		\n						\n				\n							\n\n						\n				\n								\n			\n			\n						\n\n									\n						\n							VirtualMeeting Space						\n					\n				\n									\n						\n    ZOOM Mtg ID: 941 2170 5886PWD: service\n\n    Dial In: (929) 205-6099\n        PIN: 941 2170 5886#\n\n\n\n        (click any colored text to join automatically!)
URL:https://staging.suffolkny-aa.org/event/sia-archives-committee/2026-03-10/
LOCATION:SIA Virtual Space
ATTACH;FMTTYPE=image/jpeg:https://staging.suffolkny-aa.org/wp-content/uploads/2023/11/Archives.jpg
END:VEVENT
BEGIN:VEVENT
DTSTART;TZID=America/New_York:20260310T180000
DTEND;TZID=America/New_York:20260310T190000
DTSTAMP:20260426T002633
CREATED:20250623T130946Z
LAST-MODIFIED:20250708T224542Z
UID:10002009-1773165600-1773169200@staging.suffolkny-aa.org
SUMMARY:SIA Web Committee Meeting (Virtual)
DESCRIPTION:Please join the Web Committee and help guide improvements to this website and SIA’s digital outreach to groups\, members and newcomers!\n		\n						\n				\n							\n\n						\n				\n								\n			\n			\n						\n\n									\n						\n							VirtualMeeting Space						\n					\n				\n									\n						\n    ZOOM Mtg ID: 941 2170 5886PWD: service\n\n    Dial In: (929) 205-6099\n        PIN: 941 2170 5886#\n\n\n\n        (click any colored text to join automatically!)
URL:https://staging.suffolkny-aa.org/event/sia-web-committee-2-2/2026-03-10/
LOCATION:SIA Virtual Space
ATTACH;FMTTYPE=image/jpeg:https://staging.suffolkny-aa.org/wp-content/uploads/2023/02/webcomm.jpg
END:VEVENT
BEGIN:VEVENT
DTSTART;TZID=America/New_York:20260306T180000
DTEND;TZID=America/New_York:20260306T190000
DTSTAMP:20260426T002633
CREATED:20251229T022423Z
LAST-MODIFIED:20260125T184941Z
UID:10002353-1772820000-1772823600@staging.suffolkny-aa.org
SUMMARY:Third Legacy 12 Traditions Workshop
DESCRIPTION:
URL:https://staging.suffolkny-aa.org/event/thirdleg-traditions-workshop/2026-03-06/
LOCATION:SIA Virtual Space
ATTACH;FMTTYPE=image/png:https://staging.suffolkny-aa.org/wp-content/uploads/2025/12/12_Trad_Workshop_sm.png
END:VEVENT
BEGIN:VEVENT
DTSTART;TZID=America/New_York:20260305T190000
DTEND;TZID=America/New_York:20260305T200000
DTSTAMP:20260426T002633
CREATED:20251031T012807Z
LAST-MODIFIED:20260401T011302Z
UID:10002087-1772737200-1772740800@staging.suffolkny-aa.org
SUMMARY:Treatment Facilities' Bridging The Gap Outreach Subcommittee Meeting (virtual).
DESCRIPTION:
URL:https://staging.suffolkny-aa.org/event/tfc-btgo-subc-virt-1st/2026-03-05/
LOCATION:SIA Virtual Space
ATTACH;FMTTYPE=image/png:https://staging.suffolkny-aa.org/wp-content/uploads/2025/10/btg.png
END:VEVENT
BEGIN:VEVENT
DTSTART;TZID=America/New_York:20260227T193000
DTEND;TZID=America/New_York:20260227T210000
DTSTAMP:20260426T002633
CREATED:20251204T023312Z
LAST-MODIFIED:20251204T134852Z
UID:10002269-1772220600-1772226000@staging.suffolkny-aa.org
SUMMARY:Suffolk General Service Meeting (hybrid)
DESCRIPTION:7:00 PM – Food & GSR Orientation / 7:30 Meeting \nIf this is your first Suffolk General Service meeting on the Zoom platform\, we have put together a Participants Guide to assist you. \nIf this is NOT your first meeting\, you may wish to review the guide for helpful suggestions on protecting your anonymity\, meeting etiquette\, and key features while in the meeting. \nYou can also review the Suffolk County Bylaws & Articles of Association. \nVisit the Suffolk General Service Meeting page for more information. \nContact web@aasuffolkgs-ny.org if you have any questions or concerns.
URL:https://staging.suffolkny-aa.org/event/sgs-hybrid-2026/2026-02-27/
LOCATION:Emanuel Lutheran Chrch\, 179 E. Main St.\, Patchogue\, 11772\, United States
ATTACH;FMTTYPE=image/jpeg:https://staging.suffolkny-aa.org/wp-content/uploads/2025/05/SGS_Meeting_sm.jpg
END:VEVENT
BEGIN:VEVENT
DTSTART;TZID=America/New_York:20260224T200000
DTEND;TZID=America/New_York:20260224T210000
DTSTAMP:20260426T002633
CREATED:20241207T031844Z
LAST-MODIFIED:20250203T010220Z
UID:10000028-1771963200-1771966800@staging.suffolkny-aa.org
SUMMARY:SIA Business Meeting (virtual + True North Church)
DESCRIPTION:SIA Business Meeting\nHave your group’s voice heard!! Send your group’s SIA Rep! \nVisit the SIA Business Meeting page for details.
URL:https://staging.suffolkny-aa.org/event/sia-business-meeting-2-2/2026-02-24/
LOCATION:True North Church\, 1101 Lakeland Ave.\, Bohemia\, NY\, 11716\, United States
ATTACH;FMTTYPE=image/jpeg:https://staging.suffolkny-aa.org/wp-content/uploads/2024/03/SIA_Business_Mtg.jpg
END:VEVENT
BEGIN:VEVENT
DTSTART;TZID=America/New_York:20260224T190000
DTEND;TZID=America/New_York:20260224T200000
DTSTAMP:20260426T002633
CREATED:20241207T030944Z
LAST-MODIFIED:20241221T211240Z
UID:10000217-1771959600-1771963200@staging.suffolkny-aa.org
SUMMARY:SIA New Intergroup Rep Orientation (virtual + True North Church)
DESCRIPTION:New Intergroup Rep Orientation\n(7PM before the SIA Business Meeting)\nLearn what’s involved in being your home group’s SIA Rep!
URL:https://staging.suffolkny-aa.org/event/sia-new-rep-orientation-2-2/2026-02-24/
LOCATION:True North Church\, 1101 Lakeland Ave.\, Bohemia\, NY\, 11716\, United States
ATTACH;FMTTYPE=image/jpeg:https://staging.suffolkny-aa.org/wp-content/uploads/2024/03/SIA_Business_Mtg.jpg
END:VEVENT
BEGIN:VEVENT
DTSTART;TZID=America/New_York:20260224T182000
DTEND;TZID=America/New_York:20260224T194000
DTSTAMP:20260426T002633
CREATED:20250613T213501Z
LAST-MODIFIED:20260210T011512Z
UID:10001890-1771957200-1771962000@staging.suffolkny-aa.org
SUMMARY:SIA Treatment Facilities Committee Meeting (virtual + True North Church)
DESCRIPTION:Join us to learn how you can help us carry the message to the still-suffering alcoholic in Detox\, Rehabs and other facilities in Suffolk. \nhybrid meeting (virtual + SIA Business Meeting location)
URL:https://staging.suffolkny-aa.org/event/sia-treatment-facilities-committee-meeting-virtual-true-north-church/2026-02-24/
LOCATION:True North Church\, 1101 Lakeland Ave.\, Bohemia\, NY\, 11716\, United States
ATTACH;FMTTYPE=image/jpeg:https://staging.suffolkny-aa.org/wp-content/uploads/2021/03/treatment.jpg
END:VEVENT
BEGIN:VEVENT
DTSTART;TZID=America/New_York:20260219T190000
DTEND;TZID=America/New_York:20260219T200000
DTSTAMP:20260426T002633
CREATED:20251031T013307Z
LAST-MODIFIED:20251031T013857Z
UID:10002206-1771527600-1771531200@staging.suffolkny-aa.org
SUMMARY:Treatment Facilities' Bridging The Gap Outreach Subcommittee Meeting (virtual)
DESCRIPTION:
URL:https://staging.suffolkny-aa.org/event/tfc-btgo-subc-virt-2nd/2026-02-19/
LOCATION:SIA Virtual Space
ATTACH;FMTTYPE=image/png:https://staging.suffolkny-aa.org/wp-content/uploads/2025/10/btg.png
END:VEVENT
BEGIN:VEVENT
DTSTART;TZID=America/New_York:20260213T180000
DTEND;TZID=America/New_York:20260213T190000
DTSTAMP:20260426T002633
CREATED:20250214T034717Z
LAST-MODIFIED:20260401T011434Z
UID:10000695-1771005600-1771009200@staging.suffolkny-aa.org
SUMMARY:Treatment Facilities' Bridging The Gap Committee Meeting (virtual + SIA Office)
DESCRIPTION:Join us to learn how you can become a Temporary Contact to connect a new member being discharged from a facility to A.A. in their community. \nhybrid meeting (virtual + SIA Office)
URL:https://staging.suffolkny-aa.org/event/tfc-btg-hybrid-sia-office/2026-02-13/
LOCATION:SIA Office\, 33 Comac Loop\, Ste. 1A-1\, Ronkonkoma\, NY\, 11779\, United States
ATTACH;FMTTYPE=image/jpeg:https://staging.suffolkny-aa.org/wp-content/uploads/2023/11/BTG.jpg
END:VEVENT
BEGIN:VEVENT
DTSTART;TZID=America/New_York:20260210T190000
DTEND;TZID=America/New_York:20260210T200000
DTSTAMP:20260426T002633
CREATED:20231124T222916Z
LAST-MODIFIED:20241025T132133Z
UID:10000091-1770750000-1770753600@staging.suffolkny-aa.org
SUMMARY:SIA Archives Committee Meeting (Virtual)
DESCRIPTION:The Archives Committee is always looking for volunteers to help us save our history. \nWe are also in need of volunteers to help maintain the Archives Website. \n		\n						\n				\n							\n\n						\n				\n								\n			\n			\n						\n\n									\n						\n							VirtualMeeting Space						\n					\n				\n									\n						\n    ZOOM Mtg ID: 941 2170 5886PWD: service\n\n    Dial In: (929) 205-6099\n        PIN: 941 2170 5886#\n\n\n\n        (click any colored text to join automatically!)
URL:https://staging.suffolkny-aa.org/event/sia-archives-committee/2026-02-10/
LOCATION:SIA Virtual Space
ATTACH;FMTTYPE=image/jpeg:https://staging.suffolkny-aa.org/wp-content/uploads/2023/11/Archives.jpg
END:VEVENT
BEGIN:VEVENT
DTSTART;TZID=America/New_York:20260210T180000
DTEND;TZID=America/New_York:20260210T190000
DTSTAMP:20260426T002633
CREATED:20250623T130946Z
LAST-MODIFIED:20250708T224542Z
UID:10002008-1770746400-1770750000@staging.suffolkny-aa.org
SUMMARY:SIA Web Committee Meeting (Virtual)
DESCRIPTION:Please join the Web Committee and help guide improvements to this website and SIA’s digital outreach to groups\, members and newcomers!\n		\n						\n				\n							\n\n						\n				\n								\n			\n			\n						\n\n									\n						\n							VirtualMeeting Space						\n					\n				\n									\n						\n    ZOOM Mtg ID: 941 2170 5886PWD: service\n\n    Dial In: (929) 205-6099\n        PIN: 941 2170 5886#\n\n\n\n        (click any colored text to join automatically!)
URL:https://staging.suffolkny-aa.org/event/sia-web-committee-2-2/2026-02-10/
LOCATION:SIA Virtual Space
ATTACH;FMTTYPE=image/jpeg:https://staging.suffolkny-aa.org/wp-content/uploads/2023/02/webcomm.jpg
END:VEVENT
BEGIN:VEVENT
DTSTART;TZID=America/New_York:20260206T180000
DTEND;TZID=America/New_York:20260206T190000
DTSTAMP:20260426T002633
CREATED:20251229T022423Z
LAST-MODIFIED:20260125T184941Z
UID:10002352-1770400800-1770404400@staging.suffolkny-aa.org
SUMMARY:Third Legacy 12 Traditions Workshop
DESCRIPTION:
URL:https://staging.suffolkny-aa.org/event/thirdleg-traditions-workshop/2026-02-06/
LOCATION:SIA Virtual Space
ATTACH;FMTTYPE=image/png:https://staging.suffolkny-aa.org/wp-content/uploads/2025/12/12_Trad_Workshop_sm.png
END:VEVENT
BEGIN:VEVENT
DTSTART;TZID=America/New_York:20260205T190000
DTEND;TZID=America/New_York:20260205T200000
DTSTAMP:20260426T002633
CREATED:20251031T012807Z
LAST-MODIFIED:20260401T011302Z
UID:10002086-1770318000-1770321600@staging.suffolkny-aa.org
SUMMARY:Treatment Facilities' Bridging The Gap Outreach Subcommittee Meeting (virtual).
DESCRIPTION:
URL:https://staging.suffolkny-aa.org/event/tfc-btgo-subc-virt-1st/2026-02-05/
LOCATION:SIA Virtual Space
ATTACH;FMTTYPE=image/png:https://staging.suffolkny-aa.org/wp-content/uploads/2025/10/btg.png
END:VEVENT
BEGIN:VEVENT
DTSTART;TZID=America/New_York:20260203T190000
DTEND;TZID=America/New_York:20260203T203000
DTSTAMP:20260426T002633
CREATED:20251224T003511Z
LAST-MODIFIED:20260128T154925Z
UID:10002293-1770145200-1770150600@staging.suffolkny-aa.org
SUMMARY:SIA Bylaws Committee Meeting
DESCRIPTION:Please join us and lend your voice to this important service assignment\, which is to: \n\nReview the SIA Bylaws\nIdentify and propose needed changes\nPublish proposed amendments\nReport on the anticipated effects\nPresent amendments to the SIA body for approval by substantial unanimity\n\n\nMeeting Schedule\nFirst Tuesday of each month\nbeginning February 3rd at 7:00 p.m.\n(except in March\, will meet March 10th) \nLocation\nSIA Office \nQuestions?\nEmail alt-chairperson@suffolkny-aa.org
URL:https://staging.suffolkny-aa.org/event/sia-bylaws-comm-mtg/
LOCATION:SIA Office\, 33 Comac Loop\, Ste. 1A-1\, Ronkonkoma\, NY\, 11779\, United States
ATTACH;FMTTYPE=image/png:https://staging.suffolkny-aa.org/wp-content/uploads/2025/12/Bylaws_Comm_sm.png
END:VEVENT
BEGIN:VEVENT
DTSTART;TZID=America/New_York:20260127T200000
DTEND;TZID=America/New_York:20260127T210000
DTSTAMP:20260426T002633
CREATED:20241207T031844Z
LAST-MODIFIED:20250203T010220Z
UID:10000027-1769544000-1769547600@staging.suffolkny-aa.org
SUMMARY:SIA Business Meeting (virtual + True North Church)
DESCRIPTION:SIA Business Meeting\nHave your group’s voice heard!! Send your group’s SIA Rep! \nVisit the SIA Business Meeting page for details.
URL:https://staging.suffolkny-aa.org/event/sia-business-meeting-2-2/2026-01-27/
LOCATION:True North Church\, 1101 Lakeland Ave.\, Bohemia\, NY\, 11716\, United States
ATTACH;FMTTYPE=image/jpeg:https://staging.suffolkny-aa.org/wp-content/uploads/2024/03/SIA_Business_Mtg.jpg
END:VEVENT
BEGIN:VEVENT
DTSTART;TZID=America/New_York:20260127T190000
DTEND;TZID=America/New_York:20260127T200000
DTSTAMP:20260426T002633
CREATED:20241207T030944Z
LAST-MODIFIED:20241221T211240Z
UID:10000216-1769540400-1769544000@staging.suffolkny-aa.org
SUMMARY:SIA New Intergroup Rep Orientation (virtual + True North Church)
DESCRIPTION:New Intergroup Rep Orientation\n(7PM before the SIA Business Meeting)\nLearn what’s involved in being your home group’s SIA Rep!
URL:https://staging.suffolkny-aa.org/event/sia-new-rep-orientation-2-2/2026-01-27/
LOCATION:True North Church\, 1101 Lakeland Ave.\, Bohemia\, NY\, 11716\, United States
ATTACH;FMTTYPE=image/jpeg:https://staging.suffolkny-aa.org/wp-content/uploads/2024/03/SIA_Business_Mtg.jpg
END:VEVENT
BEGIN:VEVENT
DTSTART;TZID=America/New_York:20260127T182000
DTEND;TZID=America/New_York:20260127T194000
DTSTAMP:20260426T002633
CREATED:20250613T213501Z
LAST-MODIFIED:20260210T011512Z
UID:10001889-1769538000-1769542800@staging.suffolkny-aa.org
SUMMARY:SIA Treatment Facilities Committee Meeting (virtual + True North Church)
DESCRIPTION:Join us to learn how you can help us carry the message to the still-suffering alcoholic in Detox\, Rehabs and other facilities in Suffolk. \nhybrid meeting (virtual + SIA Business Meeting location)
URL:https://staging.suffolkny-aa.org/event/sia-treatment-facilities-committee-meeting-virtual-true-north-church/2026-01-27/
LOCATION:True North Church\, 1101 Lakeland Ave.\, Bohemia\, NY\, 11716\, United States
ATTACH;FMTTYPE=image/jpeg:https://staging.suffolkny-aa.org/wp-content/uploads/2021/03/treatment.jpg
END:VEVENT
BEGIN:VEVENT
DTSTART;TZID=America/New_York:20260116T193000
DTEND;TZID=America/New_York:20260116T210000
DTSTAMP:20260426T002633
CREATED:20251204T023312Z
LAST-MODIFIED:20251204T134852Z
UID:10002279-1768591800-1768597200@staging.suffolkny-aa.org
SUMMARY:Suffolk General Service Meeting (hybrid)
DESCRIPTION:7:00 PM – Food & GSR Orientation / 7:30 Meeting \nIf this is your first Suffolk General Service meeting on the Zoom platform\, we have put together a Participants Guide to assist you. \nIf this is NOT your first meeting\, you may wish to review the guide for helpful suggestions on protecting your anonymity\, meeting etiquette\, and key features while in the meeting. \nYou can also review the Suffolk County Bylaws & Articles of Association. \nVisit the Suffolk General Service Meeting page for more information. \nContact web@aasuffolkgs-ny.org if you have any questions or concerns.
URL:https://staging.suffolkny-aa.org/event/sgs-hybrid-2026/2026-01-16/
LOCATION:Emanuel Lutheran Chrch\, 179 E. Main St.\, Patchogue\, 11772\, United States
ATTACH;FMTTYPE=image/jpeg:https://staging.suffolkny-aa.org/wp-content/uploads/2025/05/SGS_Meeting_sm.jpg
END:VEVENT
BEGIN:VEVENT
DTSTART;TZID=America/New_York:20260115T190000
DTEND;TZID=America/New_York:20260115T200000
DTSTAMP:20260426T002633
CREATED:20251031T013307Z
LAST-MODIFIED:20251031T013857Z
UID:10002205-1768503600-1768507200@staging.suffolkny-aa.org
SUMMARY:Treatment Facilities' Bridging The Gap Outreach Subcommittee Meeting (virtual)
DESCRIPTION:
URL:https://staging.suffolkny-aa.org/event/tfc-btgo-subc-virt-2nd/2026-01-15/
LOCATION:SIA Virtual Space
ATTACH;FMTTYPE=image/png:https://staging.suffolkny-aa.org/wp-content/uploads/2025/10/btg.png
END:VEVENT
BEGIN:VEVENT
DTSTART;TZID=America/New_York:20260113T190000
DTEND;TZID=America/New_York:20260113T200000
DTSTAMP:20260426T002633
CREATED:20231124T222916Z
LAST-MODIFIED:20241025T132133Z
UID:10000090-1768330800-1768334400@staging.suffolkny-aa.org
SUMMARY:SIA Archives Committee Meeting (Virtual)
DESCRIPTION:The Archives Committee is always looking for volunteers to help us save our history. \nWe are also in need of volunteers to help maintain the Archives Website. \n		\n						\n				\n							\n\n						\n				\n								\n			\n			\n						\n\n									\n						\n							VirtualMeeting Space						\n					\n				\n									\n						\n    ZOOM Mtg ID: 941 2170 5886PWD: service\n\n    Dial In: (929) 205-6099\n        PIN: 941 2170 5886#\n\n\n\n        (click any colored text to join automatically!)
URL:https://staging.suffolkny-aa.org/event/sia-archives-committee/2026-01-13/
LOCATION:SIA Virtual Space
ATTACH;FMTTYPE=image/jpeg:https://staging.suffolkny-aa.org/wp-content/uploads/2023/11/Archives.jpg
END:VEVENT
END:VCALENDAR