BEGIN:VCALENDAR
VERSION:2.0
PRODID:-//Suffolk Intergroup Assoc - ECPv6.15.20//NONSGML v1.0//EN
CALSCALE:GREGORIAN
METHOD:PUBLISH
X-WR-CALNAME:Suffolk Intergroup Assoc
X-ORIGINAL-URL:https://staging.suffolkny-aa.org
X-WR-CALDESC:Events for Suffolk Intergroup Assoc
REFRESH-INTERVAL;VALUE=DURATION:PT1H
X-Robots-Tag:noindex
X-PUBLISHED-TTL:PT1H
BEGIN:VTIMEZONE
TZID:America/New_York
BEGIN:DAYLIGHT
TZOFFSETFROM:-0500
TZOFFSETTO:-0400
TZNAME:EDT
DTSTART:20280312T070000
END:DAYLIGHT
BEGIN:STANDARD
TZOFFSETFROM:-0400
TZOFFSETTO:-0500
TZNAME:EST
DTSTART:20281105T060000
END:STANDARD
BEGIN:DAYLIGHT
TZOFFSETFROM:-0500
TZOFFSETTO:-0400
TZNAME:EDT
DTSTART:20290311T070000
END:DAYLIGHT
BEGIN:STANDARD
TZOFFSETFROM:-0400
TZOFFSETTO:-0500
TZNAME:EST
DTSTART:20291104T060000
END:STANDARD
BEGIN:DAYLIGHT
TZOFFSETFROM:-0500
TZOFFSETTO:-0400
TZNAME:EDT
DTSTART:20300310T070000
END:DAYLIGHT
BEGIN:STANDARD
TZOFFSETFROM:-0400
TZOFFSETTO:-0500
TZNAME:EST
DTSTART:20301103T060000
END:STANDARD
BEGIN:DAYLIGHT
TZOFFSETFROM:-0500
TZOFFSETTO:-0400
TZNAME:EDT
DTSTART:20310309T070000
END:DAYLIGHT
BEGIN:STANDARD
TZOFFSETFROM:-0400
TZOFFSETTO:-0500
TZNAME:EST
DTSTART:20311102T060000
END:STANDARD
END:VTIMEZONE
BEGIN:VEVENT
DTSTART;TZID=America/New_York:20291106T190000
DTEND;TZID=America/New_York:20291106T203000
DTSTAMP:20260426T002525
CREATED:20260210T014247Z
LAST-MODIFIED:20260210T014247Z
UID:10002338-1888686000-1888691400@staging.suffolkny-aa.org
SUMMARY:SIA Bylaws Committee Meeting (hybrid)
DESCRIPTION:Please join us and lend your voice to this important service assignment\, which is to: \n\nReview the SIA Bylaws\nIdentify and propose needed changes\nPublish proposed amendments\nReport on the anticipated effects\nPresent amendments to the SIA body for approval by substantial unanimity\n\n\nMeeting Schedule\nFirst Tuesday of each month\nbeginning February 3rd at 7:00 p.m.\n(except in March\, will meet March 10th) \nLocation\nSIA Office \nQuestions?\nEmail alt-chairperson@suffolkny-aa.org
URL:https://staging.suffolkny-aa.org/event/sia-bylaws-comm-mtg-2/2029-11-06/
LOCATION:SIA Office\, 33 Comac Loop\, Ste. 1A-1\, Ronkonkoma\, NY\, 11779\, United States
ATTACH;FMTTYPE=image/png:https://staging.suffolkny-aa.org/wp-content/uploads/2025/12/Bylaws_Comm_sm.png
END:VEVENT
BEGIN:VEVENT
DTSTART;TZID=America/New_York:20291109T180000
DTEND;TZID=America/New_York:20291109T190000
DTSTAMP:20260426T002525
CREATED:20250214T034717Z
LAST-MODIFIED:20260401T011434Z
UID:10001569-1888941600-1888945200@staging.suffolkny-aa.org
SUMMARY:Treatment Facilities' Bridging The Gap Committee Meeting (virtual + SIA Office)
DESCRIPTION:Join us to learn how you can become a Temporary Contact to connect a new member being discharged from a facility to A.A. in their community. \nhybrid meeting (virtual + SIA Office)
URL:https://staging.suffolkny-aa.org/event/tfc-btg-hybrid-sia-office/2029-11-09/
LOCATION:SIA Office\, 33 Comac Loop\, Ste. 1A-1\, Ronkonkoma\, NY\, 11779\, United States
ATTACH;FMTTYPE=image/jpeg:https://staging.suffolkny-aa.org/wp-content/uploads/2023/11/BTG.jpg
END:VEVENT
BEGIN:VEVENT
DTSTART;TZID=America/New_York:20291113T180000
DTEND;TZID=America/New_York:20291113T190000
DTSTAMP:20260426T002525
CREATED:20250623T130946Z
LAST-MODIFIED:20250708T224542Z
UID:10002053-1889287200-1889290800@staging.suffolkny-aa.org
SUMMARY:SIA Web Committee Meeting (Virtual)
DESCRIPTION:Please join the Web Committee and help guide improvements to this website and SIA’s digital outreach to groups\, members and newcomers!\n		\n						\n				\n							\n\n						\n				\n								\n			\n			\n						\n\n									\n						\n							VirtualMeeting Space						\n					\n				\n									\n						\n    ZOOM Mtg ID: 941 2170 5886PWD: service\n\n    Dial In: (929) 205-6099\n        PIN: 941 2170 5886#\n\n\n\n        (click any colored text to join automatically!)
URL:https://staging.suffolkny-aa.org/event/sia-web-committee-2-2/2029-11-13/
LOCATION:SIA Virtual Space
ATTACH;FMTTYPE=image/jpeg:https://staging.suffolkny-aa.org/wp-content/uploads/2023/02/webcomm.jpg
END:VEVENT
BEGIN:VEVENT
DTSTART;TZID=America/New_York:20291115T190000
DTEND;TZID=America/New_York:20291115T200000
DTSTAMP:20260426T002525
CREATED:20251031T013307Z
LAST-MODIFIED:20251031T013857Z
UID:10002251-1889463600-1889467200@staging.suffolkny-aa.org
SUMMARY:Treatment Facilities' Bridging The Gap Outreach Subcommittee Meeting (virtual)
DESCRIPTION:
URL:https://staging.suffolkny-aa.org/event/tfc-btgo-subc-virt-2nd/2029-11-15/
LOCATION:SIA Virtual Space
ATTACH;FMTTYPE=image/png:https://staging.suffolkny-aa.org/wp-content/uploads/2025/10/btg.png
END:VEVENT
BEGIN:VEVENT
DTSTART;TZID=America/New_York:20291127T182000
DTEND;TZID=America/New_York:20291127T194000
DTSTAMP:20260426T002525
CREATED:20250613T213501Z
LAST-MODIFIED:20260210T011512Z
UID:10001935-1890498000-1890502800@staging.suffolkny-aa.org
SUMMARY:SIA Treatment Facilities Committee Meeting (virtual + True North Church)
DESCRIPTION:Join us to learn how you can help us carry the message to the still-suffering alcoholic in Detox\, Rehabs and other facilities in Suffolk. \nhybrid meeting (virtual + SIA Business Meeting location)
URL:https://staging.suffolkny-aa.org/event/sia-treatment-facilities-committee-meeting-virtual-true-north-church/2029-11-27/
LOCATION:True North Church\, 1101 Lakeland Ave.\, Bohemia\, NY\, 11716\, United States
ATTACH;FMTTYPE=image/jpeg:https://staging.suffolkny-aa.org/wp-content/uploads/2021/03/treatment.jpg
END:VEVENT
BEGIN:VEVENT
DTSTART;TZID=America/New_York:20291127T190000
DTEND;TZID=America/New_York:20291127T200000
DTSTAMP:20260426T002525
CREATED:20241207T030944Z
LAST-MODIFIED:20241221T211240Z
UID:10001427-1890500400-1890504000@staging.suffolkny-aa.org
SUMMARY:SIA New Intergroup Rep Orientation (virtual + True North Church)
DESCRIPTION:New Intergroup Rep Orientation\n(7PM before the SIA Business Meeting)\nLearn what’s involved in being your home group’s SIA Rep!
URL:https://staging.suffolkny-aa.org/event/sia-new-rep-orientation-2-2/2029-11-27/
LOCATION:True North Church\, 1101 Lakeland Ave.\, Bohemia\, NY\, 11716\, United States
ATTACH;FMTTYPE=image/jpeg:https://staging.suffolkny-aa.org/wp-content/uploads/2024/03/SIA_Business_Mtg.jpg
END:VEVENT
BEGIN:VEVENT
DTSTART;TZID=America/New_York:20291127T200000
DTEND;TZID=America/New_York:20291127T210000
DTSTAMP:20260426T002525
CREATED:20241207T031844Z
LAST-MODIFIED:20250203T010220Z
UID:10001436-1890504000-1890507600@staging.suffolkny-aa.org
SUMMARY:SIA Business Meeting (virtual + True North Church)
DESCRIPTION:SIA Business Meeting\nHave your group’s voice heard!! Send your group’s SIA Rep! \nVisit the SIA Business Meeting page for details.
URL:https://staging.suffolkny-aa.org/event/sia-business-meeting-2-2/2029-11-27/
LOCATION:True North Church\, 1101 Lakeland Ave.\, Bohemia\, NY\, 11716\, United States
ATTACH;FMTTYPE=image/jpeg:https://staging.suffolkny-aa.org/wp-content/uploads/2024/03/SIA_Business_Mtg.jpg
END:VEVENT
BEGIN:VEVENT
DTSTART;TZID=America/New_York:20291204T190000
DTEND;TZID=America/New_York:20291204T203000
DTSTAMP:20260426T002525
CREATED:20260210T014247Z
LAST-MODIFIED:20260210T014247Z
UID:10002339-1891105200-1891110600@staging.suffolkny-aa.org
SUMMARY:SIA Bylaws Committee Meeting (hybrid)
DESCRIPTION:Please join us and lend your voice to this important service assignment\, which is to: \n\nReview the SIA Bylaws\nIdentify and propose needed changes\nPublish proposed amendments\nReport on the anticipated effects\nPresent amendments to the SIA body for approval by substantial unanimity\n\n\nMeeting Schedule\nFirst Tuesday of each month\nbeginning February 3rd at 7:00 p.m.\n(except in March\, will meet March 10th) \nLocation\nSIA Office \nQuestions?\nEmail alt-chairperson@suffolkny-aa.org
URL:https://staging.suffolkny-aa.org/event/sia-bylaws-comm-mtg-2/2029-12-04/
LOCATION:SIA Office\, 33 Comac Loop\, Ste. 1A-1\, Ronkonkoma\, NY\, 11779\, United States
ATTACH;FMTTYPE=image/png:https://staging.suffolkny-aa.org/wp-content/uploads/2025/12/Bylaws_Comm_sm.png
END:VEVENT
BEGIN:VEVENT
DTSTART;TZID=America/New_York:20291206T190000
DTEND;TZID=America/New_York:20291206T200000
DTSTAMP:20260426T002525
CREATED:20251031T012807Z
LAST-MODIFIED:20260401T011302Z
UID:10002132-1891278000-1891281600@staging.suffolkny-aa.org
SUMMARY:Treatment Facilities' Bridging The Gap Outreach Subcommittee Meeting (virtual).
DESCRIPTION:
URL:https://staging.suffolkny-aa.org/event/tfc-btgo-subc-virt-1st/2029-12-06/
LOCATION:SIA Virtual Space
ATTACH;FMTTYPE=image/png:https://staging.suffolkny-aa.org/wp-content/uploads/2025/10/btg.png
END:VEVENT
BEGIN:VEVENT
DTSTART;TZID=America/New_York:20291207T180000
DTEND;TZID=America/New_York:20291207T190000
DTSTAMP:20260426T002525
CREATED:20251229T022423Z
LAST-MODIFIED:20260125T184941Z
UID:10002398-1891360800-1891364400@staging.suffolkny-aa.org
SUMMARY:Third Legacy 12 Traditions Workshop
DESCRIPTION:
URL:https://staging.suffolkny-aa.org/event/thirdleg-traditions-workshop/2029-12-07/
LOCATION:SIA Virtual Space
ATTACH;FMTTYPE=image/png:https://staging.suffolkny-aa.org/wp-content/uploads/2025/12/12_Trad_Workshop_sm.png
END:VEVENT
BEGIN:VEVENT
DTSTART;TZID=America/New_York:20291211T180000
DTEND;TZID=America/New_York:20291211T190000
DTSTAMP:20260426T002525
CREATED:20250623T130946Z
LAST-MODIFIED:20250708T224542Z
UID:10002054-1891706400-1891710000@staging.suffolkny-aa.org
SUMMARY:SIA Web Committee Meeting (Virtual)
DESCRIPTION:Please join the Web Committee and help guide improvements to this website and SIA’s digital outreach to groups\, members and newcomers!\n		\n						\n				\n							\n\n						\n				\n								\n			\n			\n						\n\n									\n						\n							VirtualMeeting Space						\n					\n				\n									\n						\n    ZOOM Mtg ID: 941 2170 5886PWD: service\n\n    Dial In: (929) 205-6099\n        PIN: 941 2170 5886#\n\n\n\n        (click any colored text to join automatically!)
URL:https://staging.suffolkny-aa.org/event/sia-web-committee-2-2/2029-12-11/
LOCATION:SIA Virtual Space
ATTACH;FMTTYPE=image/jpeg:https://staging.suffolkny-aa.org/wp-content/uploads/2023/02/webcomm.jpg
END:VEVENT
BEGIN:VEVENT
DTSTART;TZID=America/New_York:20291214T180000
DTEND;TZID=America/New_York:20291214T190000
DTSTAMP:20260426T002525
CREATED:20250214T034717Z
LAST-MODIFIED:20260401T011434Z
UID:10001570-1891965600-1891969200@staging.suffolkny-aa.org
SUMMARY:Treatment Facilities' Bridging The Gap Committee Meeting (virtual + SIA Office)
DESCRIPTION:Join us to learn how you can become a Temporary Contact to connect a new member being discharged from a facility to A.A. in their community. \nhybrid meeting (virtual + SIA Office)
URL:https://staging.suffolkny-aa.org/event/tfc-btg-hybrid-sia-office/2029-12-14/
LOCATION:SIA Office\, 33 Comac Loop\, Ste. 1A-1\, Ronkonkoma\, NY\, 11779\, United States
ATTACH;FMTTYPE=image/jpeg:https://staging.suffolkny-aa.org/wp-content/uploads/2023/11/BTG.jpg
END:VEVENT
BEGIN:VEVENT
DTSTART;TZID=America/New_York:20291220T190000
DTEND;TZID=America/New_York:20291220T200000
DTSTAMP:20260426T002525
CREATED:20251031T013307Z
LAST-MODIFIED:20251031T013857Z
UID:10002252-1892487600-1892491200@staging.suffolkny-aa.org
SUMMARY:Treatment Facilities' Bridging The Gap Outreach Subcommittee Meeting (virtual)
DESCRIPTION:
URL:https://staging.suffolkny-aa.org/event/tfc-btgo-subc-virt-2nd/2029-12-20/
LOCATION:SIA Virtual Space
ATTACH;FMTTYPE=image/png:https://staging.suffolkny-aa.org/wp-content/uploads/2025/10/btg.png
END:VEVENT
BEGIN:VEVENT
DTSTART;TZID=America/New_York:20291225T182000
DTEND;TZID=America/New_York:20291225T194000
DTSTAMP:20260426T002525
CREATED:20250613T213501Z
LAST-MODIFIED:20260210T011512Z
UID:10001936-1892917200-1892922000@staging.suffolkny-aa.org
SUMMARY:SIA Treatment Facilities Committee Meeting (virtual + True North Church)
DESCRIPTION:Join us to learn how you can help us carry the message to the still-suffering alcoholic in Detox\, Rehabs and other facilities in Suffolk. \nhybrid meeting (virtual + SIA Business Meeting location)
URL:https://staging.suffolkny-aa.org/event/sia-treatment-facilities-committee-meeting-virtual-true-north-church/2029-12-25/
LOCATION:True North Church\, 1101 Lakeland Ave.\, Bohemia\, NY\, 11716\, United States
ATTACH;FMTTYPE=image/jpeg:https://staging.suffolkny-aa.org/wp-content/uploads/2021/03/treatment.jpg
END:VEVENT
BEGIN:VEVENT
DTSTART;TZID=America/New_York:20291225T200000
DTEND;TZID=America/New_York:20291225T210000
DTSTAMP:20260426T002525
CREATED:20241207T031844Z
LAST-MODIFIED:20250203T010220Z
UID:10001566-1892923200-1892926800@staging.suffolkny-aa.org
SUMMARY:SIA Business Meeting (virtual + True North Church)
DESCRIPTION:SIA Business Meeting\nHave your group’s voice heard!! Send your group’s SIA Rep! \nVisit the SIA Business Meeting page for details.
URL:https://staging.suffolkny-aa.org/event/sia-business-meeting-2-2/2029-12-25/
LOCATION:True North Church\, 1101 Lakeland Ave.\, Bohemia\, NY\, 11716\, United States
ATTACH;FMTTYPE=image/jpeg:https://staging.suffolkny-aa.org/wp-content/uploads/2024/03/SIA_Business_Mtg.jpg
END:VEVENT
BEGIN:VEVENT
DTSTART;TZID=America/New_York:20300101T190000
DTEND;TZID=America/New_York:20300101T203000
DTSTAMP:20260426T002525
CREATED:20260210T014247Z
LAST-MODIFIED:20260210T014247Z
UID:10002340-1893524400-1893529800@staging.suffolkny-aa.org
SUMMARY:SIA Bylaws Committee Meeting (hybrid)
DESCRIPTION:Please join us and lend your voice to this important service assignment\, which is to: \n\nReview the SIA Bylaws\nIdentify and propose needed changes\nPublish proposed amendments\nReport on the anticipated effects\nPresent amendments to the SIA body for approval by substantial unanimity\n\n\nMeeting Schedule\nFirst Tuesday of each month\nbeginning February 3rd at 7:00 p.m.\n(except in March\, will meet March 10th) \nLocation\nSIA Office \nQuestions?\nEmail alt-chairperson@suffolkny-aa.org
URL:https://staging.suffolkny-aa.org/event/sia-bylaws-comm-mtg-2/2030-01-01/
LOCATION:SIA Office\, 33 Comac Loop\, Ste. 1A-1\, Ronkonkoma\, NY\, 11779\, United States
ATTACH;FMTTYPE=image/png:https://staging.suffolkny-aa.org/wp-content/uploads/2025/12/Bylaws_Comm_sm.png
END:VEVENT
BEGIN:VEVENT
DTSTART;TZID=America/New_York:20300103T190000
DTEND;TZID=America/New_York:20300103T200000
DTSTAMP:20260426T002525
CREATED:20251031T012807Z
LAST-MODIFIED:20260401T011302Z
UID:10002133-1893697200-1893700800@staging.suffolkny-aa.org
SUMMARY:Treatment Facilities' Bridging The Gap Outreach Subcommittee Meeting (virtual).
DESCRIPTION:
URL:https://staging.suffolkny-aa.org/event/tfc-btgo-subc-virt-1st/2030-01-03/
LOCATION:SIA Virtual Space
ATTACH;FMTTYPE=image/png:https://staging.suffolkny-aa.org/wp-content/uploads/2025/10/btg.png
END:VEVENT
BEGIN:VEVENT
DTSTART;TZID=America/New_York:20300104T180000
DTEND;TZID=America/New_York:20300104T190000
DTSTAMP:20260426T002525
CREATED:20251229T022423Z
LAST-MODIFIED:20260125T184941Z
UID:10002399-1893780000-1893783600@staging.suffolkny-aa.org
SUMMARY:Third Legacy 12 Traditions Workshop
DESCRIPTION:
URL:https://staging.suffolkny-aa.org/event/thirdleg-traditions-workshop/2030-01-04/
LOCATION:SIA Virtual Space
ATTACH;FMTTYPE=image/png:https://staging.suffolkny-aa.org/wp-content/uploads/2025/12/12_Trad_Workshop_sm.png
END:VEVENT
BEGIN:VEVENT
DTSTART;TZID=America/New_York:20300108T180000
DTEND;TZID=America/New_York:20300108T190000
DTSTAMP:20260426T002525
CREATED:20250623T130946Z
LAST-MODIFIED:20250708T224542Z
UID:10002055-1894125600-1894129200@staging.suffolkny-aa.org
SUMMARY:SIA Web Committee Meeting (Virtual)
DESCRIPTION:Please join the Web Committee and help guide improvements to this website and SIA’s digital outreach to groups\, members and newcomers!\n		\n						\n				\n							\n\n						\n				\n								\n			\n			\n						\n\n									\n						\n							VirtualMeeting Space						\n					\n				\n									\n						\n    ZOOM Mtg ID: 941 2170 5886PWD: service\n\n    Dial In: (929) 205-6099\n        PIN: 941 2170 5886#\n\n\n\n        (click any colored text to join automatically!)
URL:https://staging.suffolkny-aa.org/event/sia-web-committee-2-2/2030-01-08/
LOCATION:SIA Virtual Space
ATTACH;FMTTYPE=image/jpeg:https://staging.suffolkny-aa.org/wp-content/uploads/2023/02/webcomm.jpg
END:VEVENT
BEGIN:VEVENT
DTSTART;TZID=America/New_York:20300111T180000
DTEND;TZID=America/New_York:20300111T190000
DTSTAMP:20260426T002525
CREATED:20250214T034717Z
LAST-MODIFIED:20260401T011434Z
UID:10001571-1894384800-1894388400@staging.suffolkny-aa.org
SUMMARY:Treatment Facilities' Bridging The Gap Committee Meeting (virtual + SIA Office)
DESCRIPTION:Join us to learn how you can become a Temporary Contact to connect a new member being discharged from a facility to A.A. in their community. \nhybrid meeting (virtual + SIA Office)
URL:https://staging.suffolkny-aa.org/event/tfc-btg-hybrid-sia-office/2030-01-11/
LOCATION:SIA Office\, 33 Comac Loop\, Ste. 1A-1\, Ronkonkoma\, NY\, 11779\, United States
ATTACH;FMTTYPE=image/jpeg:https://staging.suffolkny-aa.org/wp-content/uploads/2023/11/BTG.jpg
END:VEVENT
BEGIN:VEVENT
DTSTART;TZID=America/New_York:20300117T190000
DTEND;TZID=America/New_York:20300117T200000
DTSTAMP:20260426T002525
CREATED:20251031T013307Z
LAST-MODIFIED:20251031T013857Z
UID:10002253-1894906800-1894910400@staging.suffolkny-aa.org
SUMMARY:Treatment Facilities' Bridging The Gap Outreach Subcommittee Meeting (virtual)
DESCRIPTION:
URL:https://staging.suffolkny-aa.org/event/tfc-btgo-subc-virt-2nd/2030-01-17/
LOCATION:SIA Virtual Space
ATTACH;FMTTYPE=image/png:https://staging.suffolkny-aa.org/wp-content/uploads/2025/10/btg.png
END:VEVENT
BEGIN:VEVENT
DTSTART;TZID=America/New_York:20300129T182000
DTEND;TZID=America/New_York:20300129T194000
DTSTAMP:20260426T002525
CREATED:20250613T213501Z
LAST-MODIFIED:20260210T011512Z
UID:10001937-1895941200-1895946000@staging.suffolkny-aa.org
SUMMARY:SIA Treatment Facilities Committee Meeting (virtual + True North Church)
DESCRIPTION:Join us to learn how you can help us carry the message to the still-suffering alcoholic in Detox\, Rehabs and other facilities in Suffolk. \nhybrid meeting (virtual + SIA Business Meeting location)
URL:https://staging.suffolkny-aa.org/event/sia-treatment-facilities-committee-meeting-virtual-true-north-church/2030-01-29/
LOCATION:True North Church\, 1101 Lakeland Ave.\, Bohemia\, NY\, 11716\, United States
ATTACH;FMTTYPE=image/jpeg:https://staging.suffolkny-aa.org/wp-content/uploads/2021/03/treatment.jpg
END:VEVENT
BEGIN:VEVENT
DTSTART;TZID=America/New_York:20300129T200000
DTEND;TZID=America/New_York:20300129T210000
DTSTAMP:20260426T002525
CREATED:20241207T031844Z
LAST-MODIFIED:20250203T010220Z
UID:10001567-1895947200-1895950800@staging.suffolkny-aa.org
SUMMARY:SIA Business Meeting (virtual + True North Church)
DESCRIPTION:SIA Business Meeting\nHave your group’s voice heard!! Send your group’s SIA Rep! \nVisit the SIA Business Meeting page for details.
URL:https://staging.suffolkny-aa.org/event/sia-business-meeting-2-2/2030-01-29/
LOCATION:True North Church\, 1101 Lakeland Ave.\, Bohemia\, NY\, 11716\, United States
ATTACH;FMTTYPE=image/jpeg:https://staging.suffolkny-aa.org/wp-content/uploads/2024/03/SIA_Business_Mtg.jpg
END:VEVENT
BEGIN:VEVENT
DTSTART;TZID=America/New_York:20300201T180000
DTEND;TZID=America/New_York:20300201T190000
DTSTAMP:20260426T002525
CREATED:20251229T022423Z
LAST-MODIFIED:20260125T184941Z
UID:10002400-1896199200-1896202800@staging.suffolkny-aa.org
SUMMARY:Third Legacy 12 Traditions Workshop
DESCRIPTION:
URL:https://staging.suffolkny-aa.org/event/thirdleg-traditions-workshop/2030-02-01/
LOCATION:SIA Virtual Space
ATTACH;FMTTYPE=image/png:https://staging.suffolkny-aa.org/wp-content/uploads/2025/12/12_Trad_Workshop_sm.png
END:VEVENT
BEGIN:VEVENT
DTSTART;TZID=America/New_York:20300205T190000
DTEND;TZID=America/New_York:20300205T203000
DTSTAMP:20260426T002525
CREATED:20260210T014247Z
LAST-MODIFIED:20260210T014247Z
UID:10002341-1896548400-1896553800@staging.suffolkny-aa.org
SUMMARY:SIA Bylaws Committee Meeting (hybrid)
DESCRIPTION:Please join us and lend your voice to this important service assignment\, which is to: \n\nReview the SIA Bylaws\nIdentify and propose needed changes\nPublish proposed amendments\nReport on the anticipated effects\nPresent amendments to the SIA body for approval by substantial unanimity\n\n\nMeeting Schedule\nFirst Tuesday of each month\nbeginning February 3rd at 7:00 p.m.\n(except in March\, will meet March 10th) \nLocation\nSIA Office \nQuestions?\nEmail alt-chairperson@suffolkny-aa.org
URL:https://staging.suffolkny-aa.org/event/sia-bylaws-comm-mtg-2/2030-02-05/
LOCATION:SIA Office\, 33 Comac Loop\, Ste. 1A-1\, Ronkonkoma\, NY\, 11779\, United States
ATTACH;FMTTYPE=image/png:https://staging.suffolkny-aa.org/wp-content/uploads/2025/12/Bylaws_Comm_sm.png
END:VEVENT
BEGIN:VEVENT
DTSTART;TZID=America/New_York:20300207T190000
DTEND;TZID=America/New_York:20300207T200000
DTSTAMP:20260426T002525
CREATED:20251031T012807Z
LAST-MODIFIED:20260401T011302Z
UID:10002134-1896721200-1896724800@staging.suffolkny-aa.org
SUMMARY:Treatment Facilities' Bridging The Gap Outreach Subcommittee Meeting (virtual).
DESCRIPTION:
URL:https://staging.suffolkny-aa.org/event/tfc-btgo-subc-virt-1st/2030-02-07/
LOCATION:SIA Virtual Space
ATTACH;FMTTYPE=image/png:https://staging.suffolkny-aa.org/wp-content/uploads/2025/10/btg.png
END:VEVENT
BEGIN:VEVENT
DTSTART;TZID=America/New_York:20300208T180000
DTEND;TZID=America/New_York:20300208T190000
DTSTAMP:20260426T002525
CREATED:20250214T034717Z
LAST-MODIFIED:20260401T011434Z
UID:10001572-1896804000-1896807600@staging.suffolkny-aa.org
SUMMARY:Treatment Facilities' Bridging The Gap Committee Meeting (virtual + SIA Office)
DESCRIPTION:Join us to learn how you can become a Temporary Contact to connect a new member being discharged from a facility to A.A. in their community. \nhybrid meeting (virtual + SIA Office)
URL:https://staging.suffolkny-aa.org/event/tfc-btg-hybrid-sia-office/2030-02-08/
LOCATION:SIA Office\, 33 Comac Loop\, Ste. 1A-1\, Ronkonkoma\, NY\, 11779\, United States
ATTACH;FMTTYPE=image/jpeg:https://staging.suffolkny-aa.org/wp-content/uploads/2023/11/BTG.jpg
END:VEVENT
BEGIN:VEVENT
DTSTART;TZID=America/New_York:20300212T180000
DTEND;TZID=America/New_York:20300212T190000
DTSTAMP:20260426T002525
CREATED:20250623T130946Z
LAST-MODIFIED:20250708T224542Z
UID:10002056-1897149600-1897153200@staging.suffolkny-aa.org
SUMMARY:SIA Web Committee Meeting (Virtual)
DESCRIPTION:Please join the Web Committee and help guide improvements to this website and SIA’s digital outreach to groups\, members and newcomers!\n		\n						\n				\n							\n\n						\n				\n								\n			\n			\n						\n\n									\n						\n							VirtualMeeting Space						\n					\n				\n									\n						\n    ZOOM Mtg ID: 941 2170 5886PWD: service\n\n    Dial In: (929) 205-6099\n        PIN: 941 2170 5886#\n\n\n\n        (click any colored text to join automatically!)
URL:https://staging.suffolkny-aa.org/event/sia-web-committee-2-2/2030-02-12/
LOCATION:SIA Virtual Space
ATTACH;FMTTYPE=image/jpeg:https://staging.suffolkny-aa.org/wp-content/uploads/2023/02/webcomm.jpg
END:VEVENT
BEGIN:VEVENT
DTSTART;TZID=America/New_York:20300221T190000
DTEND;TZID=America/New_York:20300221T200000
DTSTAMP:20260426T002525
CREATED:20251031T013307Z
LAST-MODIFIED:20251031T013857Z
UID:10002254-1897930800-1897934400@staging.suffolkny-aa.org
SUMMARY:Treatment Facilities' Bridging The Gap Outreach Subcommittee Meeting (virtual)
DESCRIPTION:
URL:https://staging.suffolkny-aa.org/event/tfc-btgo-subc-virt-2nd/2030-02-21/
LOCATION:SIA Virtual Space
ATTACH;FMTTYPE=image/png:https://staging.suffolkny-aa.org/wp-content/uploads/2025/10/btg.png
END:VEVENT
BEGIN:VEVENT
DTSTART;TZID=America/New_York:20300226T182000
DTEND;TZID=America/New_York:20300226T194000
DTSTAMP:20260426T002525
CREATED:20250613T213501Z
LAST-MODIFIED:20260210T011512Z
UID:10001938-1898360400-1898365200@staging.suffolkny-aa.org
SUMMARY:SIA Treatment Facilities Committee Meeting (virtual + True North Church)
DESCRIPTION:Join us to learn how you can help us carry the message to the still-suffering alcoholic in Detox\, Rehabs and other facilities in Suffolk. \nhybrid meeting (virtual + SIA Business Meeting location)
URL:https://staging.suffolkny-aa.org/event/sia-treatment-facilities-committee-meeting-virtual-true-north-church/2030-02-26/
LOCATION:True North Church\, 1101 Lakeland Ave.\, Bohemia\, NY\, 11716\, United States
ATTACH;FMTTYPE=image/jpeg:https://staging.suffolkny-aa.org/wp-content/uploads/2021/03/treatment.jpg
END:VEVENT
END:VCALENDAR