BEGIN:VCALENDAR
VERSION:2.0
PRODID:-//Suffolk Intergroup Assoc - ECPv6.15.20//NONSGML v1.0//EN
CALSCALE:GREGORIAN
METHOD:PUBLISH
X-ORIGINAL-URL:https://staging.suffolkny-aa.org
X-WR-CALDESC:Events for Suffolk Intergroup Assoc
REFRESH-INTERVAL;VALUE=DURATION:PT1H
X-Robots-Tag:noindex
X-PUBLISHED-TTL:PT1H
BEGIN:VTIMEZONE
TZID:America/New_York
BEGIN:DAYLIGHT
TZOFFSETFROM:-0500
TZOFFSETTO:-0400
TZNAME:EDT
DTSTART:20280312T070000
END:DAYLIGHT
BEGIN:STANDARD
TZOFFSETFROM:-0400
TZOFFSETTO:-0500
TZNAME:EST
DTSTART:20281105T060000
END:STANDARD
BEGIN:DAYLIGHT
TZOFFSETFROM:-0500
TZOFFSETTO:-0400
TZNAME:EDT
DTSTART:20290311T070000
END:DAYLIGHT
BEGIN:STANDARD
TZOFFSETFROM:-0400
TZOFFSETTO:-0500
TZNAME:EST
DTSTART:20291104T060000
END:STANDARD
BEGIN:DAYLIGHT
TZOFFSETFROM:-0500
TZOFFSETTO:-0400
TZNAME:EDT
DTSTART:20300310T070000
END:DAYLIGHT
BEGIN:STANDARD
TZOFFSETFROM:-0400
TZOFFSETTO:-0500
TZNAME:EST
DTSTART:20301103T060000
END:STANDARD
END:VTIMEZONE
BEGIN:VEVENT
DTSTART;TZID=America/New_York:20290517T190000
DTEND;TZID=America/New_York:20290517T200000
DTSTAMP:20260425T220717
CREATED:20251031T013307Z
LAST-MODIFIED:20251031T013857Z
UID:10002245-1873738800-1873742400@staging.suffolkny-aa.org
SUMMARY:Treatment Facilities' Bridging The Gap Outreach Subcommittee Meeting (virtual)
DESCRIPTION:
URL:https://staging.suffolkny-aa.org/event/tfc-btgo-subc-virt-2nd/2029-05-17/
LOCATION:SIA Virtual Space
ATTACH;FMTTYPE=image/png:https://staging.suffolkny-aa.org/wp-content/uploads/2025/10/btg.png
END:VEVENT
BEGIN:VEVENT
DTSTART;TZID=America/New_York:20290529T182000
DTEND;TZID=America/New_York:20290529T194000
DTSTAMP:20260425T220717
CREATED:20250613T213501Z
LAST-MODIFIED:20260210T011512Z
UID:10001929-1874773200-1874778000@staging.suffolkny-aa.org
SUMMARY:SIA Treatment Facilities Committee Meeting (virtual + True North Church)
DESCRIPTION:Join us to learn how you can help us carry the message to the still-suffering alcoholic in Detox\, Rehabs and other facilities in Suffolk. \nhybrid meeting (virtual + SIA Business Meeting location)
URL:https://staging.suffolkny-aa.org/event/sia-treatment-facilities-committee-meeting-virtual-true-north-church/2029-05-29/
LOCATION:True North Church\, 1101 Lakeland Ave.\, Bohemia\, NY\, 11716\, United States
ATTACH;FMTTYPE=image/jpeg:https://staging.suffolkny-aa.org/wp-content/uploads/2021/03/treatment.jpg
END:VEVENT
BEGIN:VEVENT
DTSTART;TZID=America/New_York:20290529T190000
DTEND;TZID=America/New_York:20290529T200000
DTSTAMP:20260425T220717
CREATED:20241207T030944Z
LAST-MODIFIED:20241221T211240Z
UID:10001421-1874775600-1874779200@staging.suffolkny-aa.org
SUMMARY:SIA New Intergroup Rep Orientation (virtual + True North Church)
DESCRIPTION:New Intergroup Rep Orientation\n(7PM before the SIA Business Meeting)\nLearn what’s involved in being your home group’s SIA Rep!
URL:https://staging.suffolkny-aa.org/event/sia-new-rep-orientation-2-2/2029-05-29/
LOCATION:True North Church\, 1101 Lakeland Ave.\, Bohemia\, NY\, 11716\, United States
ATTACH;FMTTYPE=image/jpeg:https://staging.suffolkny-aa.org/wp-content/uploads/2024/03/SIA_Business_Mtg.jpg
END:VEVENT
BEGIN:VEVENT
DTSTART;TZID=America/New_York:20290529T200000
DTEND;TZID=America/New_York:20290529T210000
DTSTAMP:20260425T220717
CREATED:20241207T031844Z
LAST-MODIFIED:20250203T010220Z
UID:10001413-1874779200-1874782800@staging.suffolkny-aa.org
SUMMARY:SIA Business Meeting (virtual + True North Church)
DESCRIPTION:SIA Business Meeting\nHave your group’s voice heard!! Send your group’s SIA Rep! \nVisit the SIA Business Meeting page for details.
URL:https://staging.suffolkny-aa.org/event/sia-business-meeting-2-2/2029-05-29/
LOCATION:True North Church\, 1101 Lakeland Ave.\, Bohemia\, NY\, 11716\, United States
ATTACH;FMTTYPE=image/jpeg:https://staging.suffolkny-aa.org/wp-content/uploads/2024/03/SIA_Business_Mtg.jpg
END:VEVENT
BEGIN:VEVENT
DTSTART;TZID=America/New_York:20290601T180000
DTEND;TZID=America/New_York:20290601T190000
DTSTAMP:20260425T220717
CREATED:20251229T022423Z
LAST-MODIFIED:20260125T184941Z
UID:10002392-1875031200-1875034800@staging.suffolkny-aa.org
SUMMARY:Third Legacy 12 Traditions Workshop
DESCRIPTION:
URL:https://staging.suffolkny-aa.org/event/thirdleg-traditions-workshop/2029-06-01/
LOCATION:SIA Virtual Space
ATTACH;FMTTYPE=image/png:https://staging.suffolkny-aa.org/wp-content/uploads/2025/12/12_Trad_Workshop_sm.png
END:VEVENT
BEGIN:VEVENT
DTSTART;TZID=America/New_York:20290605T190000
DTEND;TZID=America/New_York:20290605T203000
DTSTAMP:20260425T220717
CREATED:20260210T014247Z
LAST-MODIFIED:20260210T014247Z
UID:10002333-1875380400-1875385800@staging.suffolkny-aa.org
SUMMARY:SIA Bylaws Committee Meeting (hybrid)
DESCRIPTION:Please join us and lend your voice to this important service assignment\, which is to: \n\nReview the SIA Bylaws\nIdentify and propose needed changes\nPublish proposed amendments\nReport on the anticipated effects\nPresent amendments to the SIA body for approval by substantial unanimity\n\n\nMeeting Schedule\nFirst Tuesday of each month\nbeginning February 3rd at 7:00 p.m.\n(except in March\, will meet March 10th) \nLocation\nSIA Office \nQuestions?\nEmail alt-chairperson@suffolkny-aa.org
URL:https://staging.suffolkny-aa.org/event/sia-bylaws-comm-mtg-2/2029-06-05/
LOCATION:SIA Office\, 33 Comac Loop\, Ste. 1A-1\, Ronkonkoma\, NY\, 11779\, United States
ATTACH;FMTTYPE=image/png:https://staging.suffolkny-aa.org/wp-content/uploads/2025/12/Bylaws_Comm_sm.png
END:VEVENT
BEGIN:VEVENT
DTSTART;TZID=America/New_York:20290607T190000
DTEND;TZID=America/New_York:20290607T200000
DTSTAMP:20260425T220717
CREATED:20251031T012807Z
LAST-MODIFIED:20260401T011302Z
UID:10002126-1875553200-1875556800@staging.suffolkny-aa.org
SUMMARY:Treatment Facilities' Bridging The Gap Outreach Subcommittee Meeting (virtual).
DESCRIPTION:
URL:https://staging.suffolkny-aa.org/event/tfc-btgo-subc-virt-1st/2029-06-07/
LOCATION:SIA Virtual Space
ATTACH;FMTTYPE=image/png:https://staging.suffolkny-aa.org/wp-content/uploads/2025/10/btg.png
END:VEVENT
BEGIN:VEVENT
DTSTART;TZID=America/New_York:20290608T180000
DTEND;TZID=America/New_York:20290608T190000
DTSTAMP:20260425T220717
CREATED:20250214T034717Z
LAST-MODIFIED:20260401T011434Z
UID:10001333-1875636000-1875639600@staging.suffolkny-aa.org
SUMMARY:Treatment Facilities' Bridging The Gap Committee Meeting (virtual + SIA Office)
DESCRIPTION:Join us to learn how you can become a Temporary Contact to connect a new member being discharged from a facility to A.A. in their community. \nhybrid meeting (virtual + SIA Office)
URL:https://staging.suffolkny-aa.org/event/tfc-btg-hybrid-sia-office/2029-06-08/
LOCATION:SIA Office\, 33 Comac Loop\, Ste. 1A-1\, Ronkonkoma\, NY\, 11779\, United States
ATTACH;FMTTYPE=image/jpeg:https://staging.suffolkny-aa.org/wp-content/uploads/2023/11/BTG.jpg
END:VEVENT
BEGIN:VEVENT
DTSTART;TZID=America/New_York:20290612T180000
DTEND;TZID=America/New_York:20290612T190000
DTSTAMP:20260425T220717
CREATED:20250623T130946Z
LAST-MODIFIED:20250708T224542Z
UID:10002048-1875981600-1875985200@staging.suffolkny-aa.org
SUMMARY:SIA Web Committee Meeting (Virtual)
DESCRIPTION:Please join the Web Committee and help guide improvements to this website and SIA’s digital outreach to groups\, members and newcomers!\n		\n						\n				\n							\n\n						\n				\n								\n			\n			\n						\n\n									\n						\n							VirtualMeeting Space						\n					\n				\n									\n						\n    ZOOM Mtg ID: 941 2170 5886PWD: service\n\n    Dial In: (929) 205-6099\n        PIN: 941 2170 5886#\n\n\n\n        (click any colored text to join automatically!)
URL:https://staging.suffolkny-aa.org/event/sia-web-committee-2-2/2029-06-12/
LOCATION:SIA Virtual Space
ATTACH;FMTTYPE=image/jpeg:https://staging.suffolkny-aa.org/wp-content/uploads/2023/02/webcomm.jpg
END:VEVENT
BEGIN:VEVENT
DTSTART;TZID=America/New_York:20290612T190000
DTEND;TZID=America/New_York:20290612T200000
DTSTAMP:20260425T220717
CREATED:20231124T222916Z
LAST-MODIFIED:20241025T132133Z
UID:10001338-1875985200-1875988800@staging.suffolkny-aa.org
SUMMARY:SIA Archives Committee Meeting (Virtual)
DESCRIPTION:The Archives Committee is always looking for volunteers to help us save our history. \nWe are also in need of volunteers to help maintain the Archives Website. \n		\n						\n				\n							\n\n						\n				\n								\n			\n			\n						\n\n									\n						\n							VirtualMeeting Space						\n					\n				\n									\n						\n    ZOOM Mtg ID: 941 2170 5886PWD: service\n\n    Dial In: (929) 205-6099\n        PIN: 941 2170 5886#\n\n\n\n        (click any colored text to join automatically!)
URL:https://staging.suffolkny-aa.org/event/sia-archives-committee/2029-06-12/
LOCATION:SIA Virtual Space
ATTACH;FMTTYPE=image/jpeg:https://staging.suffolkny-aa.org/wp-content/uploads/2023/11/Archives.jpg
END:VEVENT
BEGIN:VEVENT
DTSTART;TZID=America/New_York:20290621T190000
DTEND;TZID=America/New_York:20290621T200000
DTSTAMP:20260425T220717
CREATED:20251031T013307Z
LAST-MODIFIED:20251031T013857Z
UID:10002246-1876762800-1876766400@staging.suffolkny-aa.org
SUMMARY:Treatment Facilities' Bridging The Gap Outreach Subcommittee Meeting (virtual)
DESCRIPTION:
URL:https://staging.suffolkny-aa.org/event/tfc-btgo-subc-virt-2nd/2029-06-21/
LOCATION:SIA Virtual Space
ATTACH;FMTTYPE=image/png:https://staging.suffolkny-aa.org/wp-content/uploads/2025/10/btg.png
END:VEVENT
BEGIN:VEVENT
DTSTART;TZID=America/New_York:20290626T182000
DTEND;TZID=America/New_York:20290626T194000
DTSTAMP:20260425T220717
CREATED:20250613T213501Z
LAST-MODIFIED:20260210T011512Z
UID:10001930-1877192400-1877197200@staging.suffolkny-aa.org
SUMMARY:SIA Treatment Facilities Committee Meeting (virtual + True North Church)
DESCRIPTION:Join us to learn how you can help us carry the message to the still-suffering alcoholic in Detox\, Rehabs and other facilities in Suffolk. \nhybrid meeting (virtual + SIA Business Meeting location)
URL:https://staging.suffolkny-aa.org/event/sia-treatment-facilities-committee-meeting-virtual-true-north-church/2029-06-26/
LOCATION:True North Church\, 1101 Lakeland Ave.\, Bohemia\, NY\, 11716\, United States
ATTACH;FMTTYPE=image/jpeg:https://staging.suffolkny-aa.org/wp-content/uploads/2021/03/treatment.jpg
END:VEVENT
BEGIN:VEVENT
DTSTART;TZID=America/New_York:20290626T190000
DTEND;TZID=America/New_York:20290626T200000
DTSTAMP:20260425T220717
CREATED:20241207T030944Z
LAST-MODIFIED:20241221T211240Z
UID:10001422-1877194800-1877198400@staging.suffolkny-aa.org
SUMMARY:SIA New Intergroup Rep Orientation (virtual + True North Church)
DESCRIPTION:New Intergroup Rep Orientation\n(7PM before the SIA Business Meeting)\nLearn what’s involved in being your home group’s SIA Rep!
URL:https://staging.suffolkny-aa.org/event/sia-new-rep-orientation-2-2/2029-06-26/
LOCATION:True North Church\, 1101 Lakeland Ave.\, Bohemia\, NY\, 11716\, United States
ATTACH;FMTTYPE=image/jpeg:https://staging.suffolkny-aa.org/wp-content/uploads/2024/03/SIA_Business_Mtg.jpg
END:VEVENT
BEGIN:VEVENT
DTSTART;TZID=America/New_York:20290626T200000
DTEND;TZID=America/New_York:20290626T210000
DTSTAMP:20260425T220717
CREATED:20241207T031844Z
LAST-MODIFIED:20250203T010220Z
UID:10001414-1877198400-1877202000@staging.suffolkny-aa.org
SUMMARY:SIA Business Meeting (virtual + True North Church)
DESCRIPTION:SIA Business Meeting\nHave your group’s voice heard!! Send your group’s SIA Rep! \nVisit the SIA Business Meeting page for details.
URL:https://staging.suffolkny-aa.org/event/sia-business-meeting-2-2/2029-06-26/
LOCATION:True North Church\, 1101 Lakeland Ave.\, Bohemia\, NY\, 11716\, United States
ATTACH;FMTTYPE=image/jpeg:https://staging.suffolkny-aa.org/wp-content/uploads/2024/03/SIA_Business_Mtg.jpg
END:VEVENT
BEGIN:VEVENT
DTSTART;TZID=America/New_York:20290703T190000
DTEND;TZID=America/New_York:20290703T203000
DTSTAMP:20260425T220717
CREATED:20260210T014247Z
LAST-MODIFIED:20260210T014247Z
UID:10002334-1877799600-1877805000@staging.suffolkny-aa.org
SUMMARY:SIA Bylaws Committee Meeting (hybrid)
DESCRIPTION:Please join us and lend your voice to this important service assignment\, which is to: \n\nReview the SIA Bylaws\nIdentify and propose needed changes\nPublish proposed amendments\nReport on the anticipated effects\nPresent amendments to the SIA body for approval by substantial unanimity\n\n\nMeeting Schedule\nFirst Tuesday of each month\nbeginning February 3rd at 7:00 p.m.\n(except in March\, will meet March 10th) \nLocation\nSIA Office \nQuestions?\nEmail alt-chairperson@suffolkny-aa.org
URL:https://staging.suffolkny-aa.org/event/sia-bylaws-comm-mtg-2/2029-07-03/
LOCATION:SIA Office\, 33 Comac Loop\, Ste. 1A-1\, Ronkonkoma\, NY\, 11779\, United States
ATTACH;FMTTYPE=image/png:https://staging.suffolkny-aa.org/wp-content/uploads/2025/12/Bylaws_Comm_sm.png
END:VEVENT
BEGIN:VEVENT
DTSTART;TZID=America/New_York:20290705T190000
DTEND;TZID=America/New_York:20290705T200000
DTSTAMP:20260425T220717
CREATED:20251031T012807Z
LAST-MODIFIED:20260401T011302Z
UID:10002127-1877972400-1877976000@staging.suffolkny-aa.org
SUMMARY:Treatment Facilities' Bridging The Gap Outreach Subcommittee Meeting (virtual).
DESCRIPTION:
URL:https://staging.suffolkny-aa.org/event/tfc-btgo-subc-virt-1st/2029-07-05/
LOCATION:SIA Virtual Space
ATTACH;FMTTYPE=image/png:https://staging.suffolkny-aa.org/wp-content/uploads/2025/10/btg.png
END:VEVENT
BEGIN:VEVENT
DTSTART;TZID=America/New_York:20290706T180000
DTEND;TZID=America/New_York:20290706T190000
DTSTAMP:20260425T220717
CREATED:20251229T022423Z
LAST-MODIFIED:20260125T184941Z
UID:10002393-1878055200-1878058800@staging.suffolkny-aa.org
SUMMARY:Third Legacy 12 Traditions Workshop
DESCRIPTION:
URL:https://staging.suffolkny-aa.org/event/thirdleg-traditions-workshop/2029-07-06/
LOCATION:SIA Virtual Space
ATTACH;FMTTYPE=image/png:https://staging.suffolkny-aa.org/wp-content/uploads/2025/12/12_Trad_Workshop_sm.png
END:VEVENT
BEGIN:VEVENT
DTSTART;TZID=America/New_York:20290710T180000
DTEND;TZID=America/New_York:20290710T190000
DTSTAMP:20260425T220717
CREATED:20250623T130946Z
LAST-MODIFIED:20250708T224542Z
UID:10002049-1878400800-1878404400@staging.suffolkny-aa.org
SUMMARY:SIA Web Committee Meeting (Virtual)
DESCRIPTION:Please join the Web Committee and help guide improvements to this website and SIA’s digital outreach to groups\, members and newcomers!\n		\n						\n				\n							\n\n						\n				\n								\n			\n			\n						\n\n									\n						\n							VirtualMeeting Space						\n					\n				\n									\n						\n    ZOOM Mtg ID: 941 2170 5886PWD: service\n\n    Dial In: (929) 205-6099\n        PIN: 941 2170 5886#\n\n\n\n        (click any colored text to join automatically!)
URL:https://staging.suffolkny-aa.org/event/sia-web-committee-2-2/2029-07-10/
LOCATION:SIA Virtual Space
ATTACH;FMTTYPE=image/jpeg:https://staging.suffolkny-aa.org/wp-content/uploads/2023/02/webcomm.jpg
END:VEVENT
BEGIN:VEVENT
DTSTART;TZID=America/New_York:20290710T190000
DTEND;TZID=America/New_York:20290710T200000
DTSTAMP:20260425T220717
CREATED:20231124T222916Z
LAST-MODIFIED:20241025T132133Z
UID:10001339-1878404400-1878408000@staging.suffolkny-aa.org
SUMMARY:SIA Archives Committee Meeting (Virtual)
DESCRIPTION:The Archives Committee is always looking for volunteers to help us save our history. \nWe are also in need of volunteers to help maintain the Archives Website. \n		\n						\n				\n							\n\n						\n				\n								\n			\n			\n						\n\n									\n						\n							VirtualMeeting Space						\n					\n				\n									\n						\n    ZOOM Mtg ID: 941 2170 5886PWD: service\n\n    Dial In: (929) 205-6099\n        PIN: 941 2170 5886#\n\n\n\n        (click any colored text to join automatically!)
URL:https://staging.suffolkny-aa.org/event/sia-archives-committee/2029-07-10/
LOCATION:SIA Virtual Space
ATTACH;FMTTYPE=image/jpeg:https://staging.suffolkny-aa.org/wp-content/uploads/2023/11/Archives.jpg
END:VEVENT
BEGIN:VEVENT
DTSTART;TZID=America/New_York:20290713T180000
DTEND;TZID=America/New_York:20290713T190000
DTSTAMP:20260425T220717
CREATED:20250214T034717Z
LAST-MODIFIED:20260401T011434Z
UID:10001334-1878660000-1878663600@staging.suffolkny-aa.org
SUMMARY:Treatment Facilities' Bridging The Gap Committee Meeting (virtual + SIA Office)
DESCRIPTION:Join us to learn how you can become a Temporary Contact to connect a new member being discharged from a facility to A.A. in their community. \nhybrid meeting (virtual + SIA Office)
URL:https://staging.suffolkny-aa.org/event/tfc-btg-hybrid-sia-office/2029-07-13/
LOCATION:SIA Office\, 33 Comac Loop\, Ste. 1A-1\, Ronkonkoma\, NY\, 11779\, United States
ATTACH;FMTTYPE=image/jpeg:https://staging.suffolkny-aa.org/wp-content/uploads/2023/11/BTG.jpg
END:VEVENT
BEGIN:VEVENT
DTSTART;TZID=America/New_York:20290719T190000
DTEND;TZID=America/New_York:20290719T200000
DTSTAMP:20260425T220717
CREATED:20251031T013307Z
LAST-MODIFIED:20251031T013857Z
UID:10002247-1879182000-1879185600@staging.suffolkny-aa.org
SUMMARY:Treatment Facilities' Bridging The Gap Outreach Subcommittee Meeting (virtual)
DESCRIPTION:
URL:https://staging.suffolkny-aa.org/event/tfc-btgo-subc-virt-2nd/2029-07-19/
LOCATION:SIA Virtual Space
ATTACH;FMTTYPE=image/png:https://staging.suffolkny-aa.org/wp-content/uploads/2025/10/btg.png
END:VEVENT
BEGIN:VEVENT
DTSTART;TZID=America/New_York:20290731T182000
DTEND;TZID=America/New_York:20290731T194000
DTSTAMP:20260425T220717
CREATED:20250613T213501Z
LAST-MODIFIED:20260210T011512Z
UID:10001931-1880216400-1880221200@staging.suffolkny-aa.org
SUMMARY:SIA Treatment Facilities Committee Meeting (virtual + True North Church)
DESCRIPTION:Join us to learn how you can help us carry the message to the still-suffering alcoholic in Detox\, Rehabs and other facilities in Suffolk. \nhybrid meeting (virtual + SIA Business Meeting location)
URL:https://staging.suffolkny-aa.org/event/sia-treatment-facilities-committee-meeting-virtual-true-north-church/2029-07-31/
LOCATION:True North Church\, 1101 Lakeland Ave.\, Bohemia\, NY\, 11716\, United States
ATTACH;FMTTYPE=image/jpeg:https://staging.suffolkny-aa.org/wp-content/uploads/2021/03/treatment.jpg
END:VEVENT
BEGIN:VEVENT
DTSTART;TZID=America/New_York:20290731T190000
DTEND;TZID=America/New_York:20290731T200000
DTSTAMP:20260425T220717
CREATED:20241207T030944Z
LAST-MODIFIED:20241221T211240Z
UID:10001423-1880218800-1880222400@staging.suffolkny-aa.org
SUMMARY:SIA New Intergroup Rep Orientation (virtual + True North Church)
DESCRIPTION:New Intergroup Rep Orientation\n(7PM before the SIA Business Meeting)\nLearn what’s involved in being your home group’s SIA Rep!
URL:https://staging.suffolkny-aa.org/event/sia-new-rep-orientation-2-2/2029-07-31/
LOCATION:True North Church\, 1101 Lakeland Ave.\, Bohemia\, NY\, 11716\, United States
ATTACH;FMTTYPE=image/jpeg:https://staging.suffolkny-aa.org/wp-content/uploads/2024/03/SIA_Business_Mtg.jpg
END:VEVENT
BEGIN:VEVENT
DTSTART;TZID=America/New_York:20290731T200000
DTEND;TZID=America/New_York:20290731T210000
DTSTAMP:20260425T220717
CREATED:20241207T031844Z
LAST-MODIFIED:20250203T010220Z
UID:10001415-1880222400-1880226000@staging.suffolkny-aa.org
SUMMARY:SIA Business Meeting (virtual + True North Church)
DESCRIPTION:SIA Business Meeting\nHave your group’s voice heard!! Send your group’s SIA Rep! \nVisit the SIA Business Meeting page for details.
URL:https://staging.suffolkny-aa.org/event/sia-business-meeting-2-2/2029-07-31/
LOCATION:True North Church\, 1101 Lakeland Ave.\, Bohemia\, NY\, 11716\, United States
ATTACH;FMTTYPE=image/jpeg:https://staging.suffolkny-aa.org/wp-content/uploads/2024/03/SIA_Business_Mtg.jpg
END:VEVENT
BEGIN:VEVENT
DTSTART;TZID=America/New_York:20290802T190000
DTEND;TZID=America/New_York:20290802T200000
DTSTAMP:20260425T220717
CREATED:20251031T012807Z
LAST-MODIFIED:20260401T011302Z
UID:10002128-1880391600-1880395200@staging.suffolkny-aa.org
SUMMARY:Treatment Facilities' Bridging The Gap Outreach Subcommittee Meeting (virtual).
DESCRIPTION:
URL:https://staging.suffolkny-aa.org/event/tfc-btgo-subc-virt-1st/2029-08-02/
LOCATION:SIA Virtual Space
ATTACH;FMTTYPE=image/png:https://staging.suffolkny-aa.org/wp-content/uploads/2025/10/btg.png
END:VEVENT
BEGIN:VEVENT
DTSTART;TZID=America/New_York:20290803T180000
DTEND;TZID=America/New_York:20290803T190000
DTSTAMP:20260425T220717
CREATED:20251229T022423Z
LAST-MODIFIED:20260125T184941Z
UID:10002394-1880474400-1880478000@staging.suffolkny-aa.org
SUMMARY:Third Legacy 12 Traditions Workshop
DESCRIPTION:
URL:https://staging.suffolkny-aa.org/event/thirdleg-traditions-workshop/2029-08-03/
LOCATION:SIA Virtual Space
ATTACH;FMTTYPE=image/png:https://staging.suffolkny-aa.org/wp-content/uploads/2025/12/12_Trad_Workshop_sm.png
END:VEVENT
BEGIN:VEVENT
DTSTART;TZID=America/New_York:20290807T190000
DTEND;TZID=America/New_York:20290807T203000
DTSTAMP:20260425T220717
CREATED:20260210T014247Z
LAST-MODIFIED:20260210T014247Z
UID:10002335-1880823600-1880829000@staging.suffolkny-aa.org
SUMMARY:SIA Bylaws Committee Meeting (hybrid)
DESCRIPTION:Please join us and lend your voice to this important service assignment\, which is to: \n\nReview the SIA Bylaws\nIdentify and propose needed changes\nPublish proposed amendments\nReport on the anticipated effects\nPresent amendments to the SIA body for approval by substantial unanimity\n\n\nMeeting Schedule\nFirst Tuesday of each month\nbeginning February 3rd at 7:00 p.m.\n(except in March\, will meet March 10th) \nLocation\nSIA Office \nQuestions?\nEmail alt-chairperson@suffolkny-aa.org
URL:https://staging.suffolkny-aa.org/event/sia-bylaws-comm-mtg-2/2029-08-07/
LOCATION:SIA Office\, 33 Comac Loop\, Ste. 1A-1\, Ronkonkoma\, NY\, 11779\, United States
ATTACH;FMTTYPE=image/png:https://staging.suffolkny-aa.org/wp-content/uploads/2025/12/Bylaws_Comm_sm.png
END:VEVENT
BEGIN:VEVENT
DTSTART;TZID=America/New_York:20290810T180000
DTEND;TZID=America/New_York:20290810T190000
DTSTAMP:20260425T220717
CREATED:20250214T034717Z
LAST-MODIFIED:20260401T011434Z
UID:10001335-1881079200-1881082800@staging.suffolkny-aa.org
SUMMARY:Treatment Facilities' Bridging The Gap Committee Meeting (virtual + SIA Office)
DESCRIPTION:Join us to learn how you can become a Temporary Contact to connect a new member being discharged from a facility to A.A. in their community. \nhybrid meeting (virtual + SIA Office)
URL:https://staging.suffolkny-aa.org/event/tfc-btg-hybrid-sia-office/2029-08-10/
LOCATION:SIA Office\, 33 Comac Loop\, Ste. 1A-1\, Ronkonkoma\, NY\, 11779\, United States
ATTACH;FMTTYPE=image/jpeg:https://staging.suffolkny-aa.org/wp-content/uploads/2023/11/BTG.jpg
END:VEVENT
BEGIN:VEVENT
DTSTART;TZID=America/New_York:20290814T180000
DTEND;TZID=America/New_York:20290814T190000
DTSTAMP:20260425T220717
CREATED:20250623T130946Z
LAST-MODIFIED:20250708T224542Z
UID:10002050-1881424800-1881428400@staging.suffolkny-aa.org
SUMMARY:SIA Web Committee Meeting (Virtual)
DESCRIPTION:Please join the Web Committee and help guide improvements to this website and SIA’s digital outreach to groups\, members and newcomers!\n		\n						\n				\n							\n\n						\n				\n								\n			\n			\n						\n\n									\n						\n							VirtualMeeting Space						\n					\n				\n									\n						\n    ZOOM Mtg ID: 941 2170 5886PWD: service\n\n    Dial In: (929) 205-6099\n        PIN: 941 2170 5886#\n\n\n\n        (click any colored text to join automatically!)
URL:https://staging.suffolkny-aa.org/event/sia-web-committee-2-2/2029-08-14/
LOCATION:SIA Virtual Space
ATTACH;FMTTYPE=image/jpeg:https://staging.suffolkny-aa.org/wp-content/uploads/2023/02/webcomm.jpg
END:VEVENT
BEGIN:VEVENT
DTSTART;TZID=America/New_York:20290814T190000
DTEND;TZID=America/New_York:20290814T200000
DTSTAMP:20260425T220717
CREATED:20231124T222916Z
LAST-MODIFIED:20241025T132133Z
UID:10001340-1881428400-1881432000@staging.suffolkny-aa.org
SUMMARY:SIA Archives Committee Meeting (Virtual)
DESCRIPTION:The Archives Committee is always looking for volunteers to help us save our history. \nWe are also in need of volunteers to help maintain the Archives Website. \n		\n						\n				\n							\n\n						\n				\n								\n			\n			\n						\n\n									\n						\n							VirtualMeeting Space						\n					\n				\n									\n						\n    ZOOM Mtg ID: 941 2170 5886PWD: service\n\n    Dial In: (929) 205-6099\n        PIN: 941 2170 5886#\n\n\n\n        (click any colored text to join automatically!)
URL:https://staging.suffolkny-aa.org/event/sia-archives-committee/2029-08-14/
LOCATION:SIA Virtual Space
ATTACH;FMTTYPE=image/jpeg:https://staging.suffolkny-aa.org/wp-content/uploads/2023/11/Archives.jpg
END:VEVENT
END:VCALENDAR