BEGIN:VCALENDAR
VERSION:2.0
PRODID:-//Suffolk Intergroup Assoc - ECPv6.15.17.1//NONSGML v1.0//EN
CALSCALE:GREGORIAN
METHOD:PUBLISH
X-WR-CALNAME:Suffolk Intergroup Assoc
X-ORIGINAL-URL:https://staging.suffolkny-aa.org
X-WR-CALDESC:Events for Suffolk Intergroup Assoc
REFRESH-INTERVAL;VALUE=DURATION:PT1H
X-Robots-Tag:noindex
X-PUBLISHED-TTL:PT1H
BEGIN:VTIMEZONE
TZID:America/New_York
BEGIN:DAYLIGHT
TZOFFSETFROM:-0500
TZOFFSETTO:-0400
TZNAME:EDT
DTSTART:20240310T070000
END:DAYLIGHT
BEGIN:STANDARD
TZOFFSETFROM:-0400
TZOFFSETTO:-0500
TZNAME:EST
DTSTART:20241103T060000
END:STANDARD
BEGIN:DAYLIGHT
TZOFFSETFROM:-0500
TZOFFSETTO:-0400
TZNAME:EDT
DTSTART:20250309T070000
END:DAYLIGHT
BEGIN:STANDARD
TZOFFSETFROM:-0400
TZOFFSETTO:-0500
TZNAME:EST
DTSTART:20251102T060000
END:STANDARD
BEGIN:DAYLIGHT
TZOFFSETFROM:-0500
TZOFFSETTO:-0400
TZNAME:EDT
DTSTART:20260308T070000
END:DAYLIGHT
BEGIN:STANDARD
TZOFFSETFROM:-0400
TZOFFSETTO:-0500
TZNAME:EST
DTSTART:20261101T060000
END:STANDARD
END:VTIMEZONE
BEGIN:VEVENT
DTSTART;TZID=America/New_York:20250313T190000
DTEND;TZID=America/New_York:20250313T210000
DTSTAMP:20260421T205127
CREATED:20250301T172243Z
LAST-MODIFIED:20250308T134910Z
UID:3890269-1741892400-1741899600@staging.suffolkny-aa.org
SUMMARY:75th General Service Conference Workshop
DESCRIPTION:Join us as we review and discuss the agenda items on the Delegate’s Questionnaire\, along with other topics from the Final Agenda for the 75th General Service Conference happening this April. \nThis workshop series provides an opportunity for Group Service Representatives (GSRs) and other members to become informed\, enabling GSRs to submit their group’s response to our Area 49 Delegate by April 12\, 2025. \nAll are welcome! Your voice matters in shaping the future of AA. \n\n\nClick the link below to access: \n\nA reference guide to help answer commonly asked questions\nThe digital submission form\nA downloadable version of the Delegate’s Questionnaire\n\n👉 aaseny.org/dq2025 \n\n📅 March 13\, 20\, 27 & April 3\, 10 \n🕖 7:00 PM – 9:00 PM (Approx.) \n🔹 Meeting ID: 964 1713 2964 \n🔹 Passcode: 164 \n👉 Click to Join
URL:https://staging.suffolkny-aa.org/event/gsc-workshop/
END:VEVENT
END:VCALENDAR