BEGIN:VCALENDAR
VERSION:2.0
PRODID:-//Suffolk Intergroup Assoc - ECPv6.15.17.1//NONSGML v1.0//EN
CALSCALE:GREGORIAN
METHOD:PUBLISH
X-ORIGINAL-URL:https://staging.suffolkny-aa.org
X-WR-CALDESC:Events for Suffolk Intergroup Assoc
REFRESH-INTERVAL;VALUE=DURATION:PT1H
X-Robots-Tag:noindex
X-PUBLISHED-TTL:PT1H
BEGIN:VTIMEZONE
TZID:America/New_York
BEGIN:DAYLIGHT
TZOFFSETFROM:-0500
TZOFFSETTO:-0400
TZNAME:EDT
DTSTART:20230312T070000
END:DAYLIGHT
BEGIN:STANDARD
TZOFFSETFROM:-0400
TZOFFSETTO:-0500
TZNAME:EST
DTSTART:20231105T060000
END:STANDARD
BEGIN:DAYLIGHT
TZOFFSETFROM:-0500
TZOFFSETTO:-0400
TZNAME:EDT
DTSTART:20240310T070000
END:DAYLIGHT
BEGIN:STANDARD
TZOFFSETFROM:-0400
TZOFFSETTO:-0500
TZNAME:EST
DTSTART:20241103T060000
END:STANDARD
BEGIN:DAYLIGHT
TZOFFSETFROM:-0500
TZOFFSETTO:-0400
TZNAME:EDT
DTSTART:20250309T070000
END:DAYLIGHT
BEGIN:STANDARD
TZOFFSETFROM:-0400
TZOFFSETTO:-0500
TZNAME:EST
DTSTART:20251102T060000
END:STANDARD
END:VTIMEZONE
BEGIN:VEVENT
DTSTART;TZID=America/New_York:20241201T170000
DTEND;TZID=America/New_York:20241201T200000
DTSTAMP:20260421T063703
CREATED:20241029T122400Z
LAST-MODIFIED:20241124T165148Z
UID:3888801-1733072400-1733083200@staging.suffolkny-aa.org
SUMMARY:Cleary Group 51st Group Anniversary
DESCRIPTION: 
URL:https://staging.suffolkny-aa.org/event/cleary-group-anniv/
LOCATION:St. Mary’s Episcopal Church\, 315 Lake Shore Rd.\, Lake Ronkonkoma\, NY\, 11779\, United States
END:VEVENT
END:VCALENDAR